BEGIN:VCALENDAR
VERSION:2.0
PRODID:-//LWV DelCo Environmental Clearinghouse - ECPv6.15.20//NONSGML v1.0//EN
CALSCALE:GREGORIAN
METHOD:PUBLISH
X-ORIGINAL-URL:https://envirodelco.org
X-WR-CALDESC:Events for LWV DelCo Environmental Clearinghouse
REFRESH-INTERVAL;VALUE=DURATION:PT1H
X-Robots-Tag:noindex
X-PUBLISHED-TTL:PT1H
BEGIN:VTIMEZONE
TZID:America/New_York
BEGIN:DAYLIGHT
TZOFFSETFROM:-0500
TZOFFSETTO:-0400
TZNAME:EDT
DTSTART:20250309T070000
END:DAYLIGHT
BEGIN:STANDARD
TZOFFSETFROM:-0400
TZOFFSETTO:-0500
TZNAME:EST
DTSTART:20251102T060000
END:STANDARD
BEGIN:DAYLIGHT
TZOFFSETFROM:-0500
TZOFFSETTO:-0400
TZNAME:EDT
DTSTART:20260308T070000
END:DAYLIGHT
BEGIN:STANDARD
TZOFFSETFROM:-0400
TZOFFSETTO:-0500
TZNAME:EST
DTSTART:20261101T060000
END:STANDARD
BEGIN:DAYLIGHT
TZOFFSETFROM:-0500
TZOFFSETTO:-0400
TZNAME:EDT
DTSTART:20270314T070000
END:DAYLIGHT
BEGIN:STANDARD
TZOFFSETFROM:-0400
TZOFFSETTO:-0500
TZNAME:EST
DTSTART:20271107T060000
END:STANDARD
END:VTIMEZONE
BEGIN:VEVENT
DTSTART;TZID=America/New_York:20260430T120000
DTEND;TZID=America/New_York:20260430T130000
DTSTAMP:20260419T120347
CREATED:20260413T200947Z
LAST-MODIFIED:20260413T200947Z
UID:12041-1777550400-1777554000@envirodelco.org
SUMMARY:Breaking Down DRBC's Framework for Resilience
DESCRIPTION:The Delaware River Basin Commission’s Water Resources Resilience Plan (WRRP) supports management of the Basin’s shared water resources through the known and potential impacts of climate change and other challenges. \nThe WRRP has 3 phases\, each with a public input component. Phase 1 was completed in March 2026 and reflected input from partners and stakeholders to define a consensus-based framework for the plan. Phase 2 will consist of a vulnerability assessment and a gap analysis to identify and prioritize potential actions that can be taken by the DRBC and/or other regional partners to advance resilience of the Basin’s water resources. \nJoin DRBC staff to learn more about the plan’s progress and next steps!
URL:https://envirodelco.org/event/breaking-down-drbcs-framework-for-resilience/
LOCATION:Virtual Meeting
CATEGORIES:Climate Change,Educational,Presentation,Virtually
ATTACH;FMTTYPE=image/png:https://envirodelco.org/wp-content/uploads/2026/04/DRBC-4-30-2026.png
ORGANIZER;CN="Delaware River Basin Commission (DRBC)":MAILTO:Kate.Schmidt@drbc.gov
END:VEVENT
BEGIN:VEVENT
DTSTART;TZID=America/New_York:20260502T080000
DTEND;TZID=America/New_York:20260502T170000
DTSTAMP:20260419T120347
CREATED:20260416T162643Z
LAST-MODIFIED:20260416T162643Z
UID:12060-1777708800-1777741200@envirodelco.org
SUMMARY:Join DRN and Riverways as a Community Scientist this Spring!
DESCRIPTION:Monitor a section of a creek\, stream\, or river in the Philadelphia region with DRN and Riverways!\n\nWe are looking for a group of dedicated individuals willing to conduct weekly visual assessments of Combined Sewer Overflow outfalls and recreational conditions in the Philadelphia region.\nWe will be monitoring CSOs in and around the Tookany/Tacony-Frankford Watershed in North Philly. *There may be opportunities for monitoring in other watersheds in Philadelphia. If interested\, please contact us.\n\nReady to become a monitor for a cleaner and healthier environment? \nClick the interest form link to learn a lot more about this opportunity! \nPlease fill out this interest form and our CSO project team will be in touch!
URL:https://envirodelco.org/event/join-drn-and-riverways-as-a-community-scientist-this-spring/
CATEGORIES:Community Activity,In Person
ATTACH;FMTTYPE=image/jpeg:https://envirodelco.org/wp-content/uploads/2026/04/DRN-Call-for-volunteers.jpg
ORGANIZER;CN="Delaware Riverkeeper Network":MAILTO:chari@delawareriverkeeper.org
END:VEVENT
END:VCALENDAR