BEGIN:VCALENDAR
VERSION:2.0
PRODID:-//LWV DelCo Environmental Clearinghouse - ECPv6.15.20//NONSGML v1.0//EN
CALSCALE:GREGORIAN
METHOD:PUBLISH
X-WR-CALNAME:LWV DelCo Environmental Clearinghouse
X-ORIGINAL-URL:https://envirodelco.org
X-WR-CALDESC:Events for LWV DelCo Environmental Clearinghouse
REFRESH-INTERVAL;VALUE=DURATION:PT1H
X-Robots-Tag:noindex
X-PUBLISHED-TTL:PT1H
BEGIN:VTIMEZONE
TZID:America/New_York
BEGIN:DAYLIGHT
TZOFFSETFROM:-0500
TZOFFSETTO:-0400
TZNAME:EDT
DTSTART:20250309T070000
END:DAYLIGHT
BEGIN:STANDARD
TZOFFSETFROM:-0400
TZOFFSETTO:-0500
TZNAME:EST
DTSTART:20251102T060000
END:STANDARD
BEGIN:DAYLIGHT
TZOFFSETFROM:-0500
TZOFFSETTO:-0400
TZNAME:EDT
DTSTART:20260308T070000
END:DAYLIGHT
BEGIN:STANDARD
TZOFFSETFROM:-0400
TZOFFSETTO:-0500
TZNAME:EST
DTSTART:20261101T060000
END:STANDARD
BEGIN:DAYLIGHT
TZOFFSETFROM:-0500
TZOFFSETTO:-0400
TZNAME:EDT
DTSTART:20270314T070000
END:DAYLIGHT
BEGIN:STANDARD
TZOFFSETFROM:-0400
TZOFFSETTO:-0500
TZNAME:EST
DTSTART:20271107T060000
END:STANDARD
END:VTIMEZONE
BEGIN:VEVENT
DTSTART;TZID=America/New_York:20260124T090000
DTEND;TZID=America/New_York:20260124T110000
DTSTAMP:20260420T234700
CREATED:20260105T171258Z
LAST-MODIFIED:20260105T171258Z
UID:11100-1769245200-1769252400@envirodelco.org
SUMMARY:Bird Walk with Debbie Beer
DESCRIPTION:Take an educational walk with one of our knowledgeable volunteers! Discover the 300+ species of birds that use the Refuge during their migration routes – each week guarantee different species! Walk will meet by visitor center and be at a relaxed paced on flat surfaces. There are restrooms near the trailhead. No registration required. \n\n\n\n\n\n\nEvent date and time\nJan 24\, 2026 9:00 am – Jan 24\, 2026 11:00 am (EST)
URL:https://envirodelco.org/event/bird-walk-with-debbie-beer/
LOCATION:John Heinz National Wildlike Refuge at Tinicum\, 8601 Lindbergh Boulevard\, Philadelphia\, PA\, 19153-2501\, United States
CATEGORIES:Community Activity,In Person
ATTACH;FMTTYPE=image/jpeg:https://envirodelco.org/wp-content/uploads/2025/03/Heinz1.jpg
ORGANIZER;CN="John Heinz National Wildlife Refuge at Tinicum":MAILTO:hannah_thompkins@fws.gov
END:VEVENT
BEGIN:VEVENT
DTSTART;TZID=America/New_York:20260127T183000
DTEND;TZID=America/New_York:20260127T193000
DTSTAMP:20260420T234700
CREATED:20260106T194339Z
LAST-MODIFIED:20260106T194339Z
UID:11109-1769538600-1769542200@envirodelco.org
SUMMARY:Loving the Less Lovable: Flies ($Pay what you wish)
DESCRIPTION:This virtual presentation aims to highlight the often-overlooked role of flies in our ecosystem\, shedding light on their vital contributions to environmental balance\, pollination\, decomposition\, and food webs. Andrea Kautz\, an entomologist at the Carnegie Museum of Natural History’s Powdermill Nature Reserve\, will provide an overview of flies\, their life cycle\, and their ecological importance\, helping to foster a deeper understanding and appreciation of their significance in maintaining biodiversity and ecosystem health. \nThis is a “Pay What You Wish” presentation with donations covering speaker fees and benefiting Penguin Court’s education & outreach programs. Thank you for considering a donation. \nThis program will be recorded and shared with registrants 7-14 days after the live presentation.
URL:https://envirodelco.org/event/loving-the-less-lovable-flies-pay-what-you-wish/
LOCATION:Virtual Meeting
CATEGORIES:Educational,Presentation,Virtually
ORGANIZER;CN="Brandywine Conservancy":MAILTO:information@brandywine.org
END:VEVENT
BEGIN:VEVENT
DTSTART;TZID=America/New_York:20260131T100000
DTEND;TZID=America/New_York:20260131T120000
DTSTAMP:20260420T234700
CREATED:20260105T171930Z
LAST-MODIFIED:20260105T171930Z
UID:11102-1769853600-1769860800@envirodelco.org
SUMMARY:Groundhog Day Celebration!
DESCRIPTION:Celebrate Groundhog Day with us! Join our family-friendly walk at 10 am to learn about its history and nature. Enjoy crafts\, music\, and live animals from the Metro Wildlife Rehab Center from 11 am to 12 pm at the Visitor Center. Don’t miss the Groundhog Shadow Reveal at 12 pm! \n\n\n\n\n\n\nEvent date and time\nJan 31\, 2026 10:00 am – Jan 31\, 2026 12:00 pm (EST)
URL:https://envirodelco.org/event/groundhog-day-celebration/
LOCATION:John Heinz National Wildlike Refuge at Tinicum\, 8601 Lindbergh Boulevard\, Philadelphia\, PA\, 19153-2501\, United States
CATEGORIES:Community Activity,Educational,In Person,National Parks
ATTACH;FMTTYPE=image/jpeg:https://envirodelco.org/wp-content/uploads/2026/01/groundhog-4266617488.jpg
ORGANIZER;CN="John Heinz National Wildlife Refuge at Tinicum":MAILTO:hannah_thompkins@fws.gov
END:VEVENT
BEGIN:VEVENT
DTSTART;TZID=America/New_York:20260131T190000
DTEND;TZID=America/New_York:20260131T210000
DTSTAMP:20260420T234700
CREATED:20260120T201057Z
LAST-MODIFIED:20260120T201057Z
UID:11331-1769886000-1769893200@envirodelco.org
SUMMARY:Moonlight Hike $
DESCRIPTION:SUITABLE FOR ADULTS AND TEENS AGES 15-17 \nExperience Tyler by moonlight.  Step into the forest after dark to explore woodlands\, streams\, and open areas. Listen for nighttime sounds\, watch shifting shadows\, and notice the scents of the evening. Along the way\, your guides will point out features of special interest and seasonal highlights. Keep an eye and ear out for the nocturnal wildlife that calls Tyler home. \n• Gates open at 6:45 pm \n• Group leaves from the Visitor Center at 7:05 pm — please arrive on time \n• Check in with the staff person at the Visitor Center Patio \n• Restrooms available at the beginning and end of the hike \nWhat to expect: \n• Experienced guides \n• Moderately paced\, 3+ mile hike on rocky\, uneven terrain \n• Changes in walking surfaces\, including pavement\, grass\, gravel\, and rocky trails \n• Changes in grade\, including steep hills \n• Stream crossings \n• Darkness \n• Time to observe the moon (bring binoculars) \n• Not suitable for those with limited mobility \nWhat to wear & carry: \n• Dress in layers for the weather \n• Hiking boots with good tread \n• Handheld flashlight (cell phone flashlights are not sufficient) \n• Water and snacks \n• Hiking poles (optional) \nPRE-REGISTRATION REQUIRED. A registered adult must accompany teens. \nMEMBERS (sign in for your discount!): 15% OFF! Adults: $17 each; Teens ages 15-17: $12.75 each \nNON-MEMBERS: Adults: $20 each; Teens ages 15-17: $15 each \nGUEST PASS HOLDERS (for non-member use only): Adult guests: $17 each; Teen guests: $12.75 each. Please give the Visitor Center Associate your guest passes at check-in. Each participant must submit a pass. If you are accompanying a participating Family or higher-level member\, please let the Visitor Center Associate know. \nREGISTER HERE\n  \n 
URL:https://envirodelco.org/event/moonlight-hike/
LOCATION:Tyler Arboretum\, 515 Painter Road\, Media\, PA\, 19063\, United States
CATEGORIES:Community Activity,In Person,Park Cleanup
ORGANIZER;CN="Tyler Arboretum":MAILTO:info@tylerarboretum.org
END:VEVENT
END:VCALENDAR