BEGIN:VCALENDAR
VERSION:2.0
PRODID:-//LWV DelCo Environmental Clearinghouse - ECPv6.15.20//NONSGML v1.0//EN
CALSCALE:GREGORIAN
METHOD:PUBLISH
X-ORIGINAL-URL:https://envirodelco.org
X-WR-CALDESC:Events for LWV DelCo Environmental Clearinghouse
REFRESH-INTERVAL;VALUE=DURATION:PT1H
X-Robots-Tag:noindex
X-PUBLISHED-TTL:PT1H
BEGIN:VTIMEZONE
TZID:America/New_York
BEGIN:DAYLIGHT
TZOFFSETFROM:-0500
TZOFFSETTO:-0400
TZNAME:EDT
DTSTART:20250309T070000
END:DAYLIGHT
BEGIN:STANDARD
TZOFFSETFROM:-0400
TZOFFSETTO:-0500
TZNAME:EST
DTSTART:20251102T060000
END:STANDARD
BEGIN:DAYLIGHT
TZOFFSETFROM:-0500
TZOFFSETTO:-0400
TZNAME:EDT
DTSTART:20260308T070000
END:DAYLIGHT
BEGIN:STANDARD
TZOFFSETFROM:-0400
TZOFFSETTO:-0500
TZNAME:EST
DTSTART:20261101T060000
END:STANDARD
BEGIN:DAYLIGHT
TZOFFSETFROM:-0500
TZOFFSETTO:-0400
TZNAME:EDT
DTSTART:20270314T070000
END:DAYLIGHT
BEGIN:STANDARD
TZOFFSETFROM:-0400
TZOFFSETTO:-0500
TZNAME:EST
DTSTART:20271107T060000
END:STANDARD
END:VTIMEZONE
BEGIN:VEVENT
DTSTART;TZID=America/New_York:20260502T100000
DTEND;TZID=America/New_York:20260502T110000
DTSTAMP:20260420T195348
CREATED:20260408T182446Z
LAST-MODIFIED:20260408T182446Z
UID:11966-1777716000-1777719600@envirodelco.org
SUMMARY:Seed Starting Workshop
DESCRIPTION:Daydreaming about spring already? Come get a jumpstart on the growing season and learn hot to start your very own native wildflower seeds! We’ll explore how birds\, plants\, and pollinators rely on each other and make sure there are a couple extra blooms for them come spring! All materials included. Register with carmelita_rosner@fws.gov.
URL:https://envirodelco.org/event/seed-starting-workshop/
LOCATION:John Heinz National Wildlike Refuge at Tinicum\, 8601 Lindbergh Boulevard\, Philadelphia\, PA\, 19153-2501\, United States
CATEGORIES:Community Activity,Educational,Native Gardening
ATTACH;FMTTYPE=image/png:https://envirodelco.org/wp-content/uploads/2025/07/JohnHeinzWildlifeRefuge-banner.png
ORGANIZER;CN="John Heinz National Wildlife Refuge at Tinicum":MAILTO:hannah_thompkins@fws.gov
END:VEVENT
BEGIN:VEVENT
DTSTART;TZID=America/New_York:20260512T190000
DTEND;TZID=America/New_York:20260512T203000
DTSTAMP:20260420T195348
CREATED:20260417T162811Z
LAST-MODIFIED:20260417T163359Z
UID:12086-1778612400-1778617800@envirodelco.org
SUMMARY:Lawn to Meadow:  A Light and Gradual Transition
DESCRIPTION:Join us for a talk with Sara Weaner Cooper\, Principal of New Directions in the American Landscape (NDAL). Sara and her husband Evan Cooper transitioned their home landscape in Blue Bell\, PA from lawn to a native meadow. Their significant and highly successful experiment was featured by the BBC in 2025 and in the New York Times in 2024. Larry Weaner\, of Larry Weaner Landscape Associates\, wil join in the Q & A following the talk. \nRegister for this *free* hybrid talk (in-person or online) by clicking on the following link:\n\nhttps://courses.mainlineschoolnight.org/wconnect/ace/CourseStatus.awp?course=26SHG22322
URL:https://envirodelco.org/event/lawn-to-meadow-a-light-and-gradual-transition/
LOCATION:Creutzburg Center\, 260 Gulph Creek Road\, Radnor\, PA\, 19087\, United States
CATEGORIES:Educational,In Person,Native Gardening,Presentation,Workshop
ATTACH;FMTTYPE=image/png:https://envirodelco.org/wp-content/uploads/2026/04/Lawn-to-Meadow-5-12-2026.png
ORGANIZER;CN="Radnor Township Environmental Advisory Council":MAILTO:eac@radnor.org
END:VEVENT
END:VCALENDAR