BEGIN:VCALENDAR
VERSION:2.0
PRODID:-//LWV DelCo Environmental Clearinghouse - ECPv6.15.20//NONSGML v1.0//EN
CALSCALE:GREGORIAN
METHOD:PUBLISH
X-ORIGINAL-URL:https://envirodelco.org
X-WR-CALDESC:Events for LWV DelCo Environmental Clearinghouse
REFRESH-INTERVAL;VALUE=DURATION:PT1H
X-Robots-Tag:noindex
X-PUBLISHED-TTL:PT1H
BEGIN:VTIMEZONE
TZID:America/New_York
BEGIN:DAYLIGHT
TZOFFSETFROM:-0500
TZOFFSETTO:-0400
TZNAME:EDT
DTSTART:20250309T070000
END:DAYLIGHT
BEGIN:STANDARD
TZOFFSETFROM:-0400
TZOFFSETTO:-0500
TZNAME:EST
DTSTART:20251102T060000
END:STANDARD
BEGIN:DAYLIGHT
TZOFFSETFROM:-0500
TZOFFSETTO:-0400
TZNAME:EDT
DTSTART:20260308T070000
END:DAYLIGHT
BEGIN:STANDARD
TZOFFSETFROM:-0400
TZOFFSETTO:-0500
TZNAME:EST
DTSTART:20261101T060000
END:STANDARD
BEGIN:DAYLIGHT
TZOFFSETFROM:-0500
TZOFFSETTO:-0400
TZNAME:EDT
DTSTART:20270314T070000
END:DAYLIGHT
BEGIN:STANDARD
TZOFFSETFROM:-0400
TZOFFSETTO:-0500
TZNAME:EST
DTSTART:20271107T060000
END:STANDARD
END:VTIMEZONE
BEGIN:VEVENT
DTSTART;TZID=America/New_York:20260503T100000
DTEND;TZID=America/New_York:20260503T120000
DTSTAMP:20260422T194827
CREATED:20260408T184521Z
LAST-MODIFIED:20260408T184521Z
UID:11974-1777802400-1777809600@envirodelco.org
SUMMARY:"Follow the Sound" Nature Walk with Bowerbird
DESCRIPTION:Join us for an immersive sound experience in this collaboration with Bowerbird! The program begins at the pavilion with a short acoustic music performance inspired by nature then we will follow the sounds on the trail with a guided active listening walk! No registration needed.
URL:https://envirodelco.org/event/follow-the-sound-nature-walk-with-bowerbird/
LOCATION:John Heinz National Wildlike Refuge at Tinicum\, 8601 Lindbergh Boulevard\, Philadelphia\, PA\, 19153-2501\, United States
CATEGORIES:Community Activity,Educational,In Person,Nature Walks
ATTACH;FMTTYPE=image/jpeg:https://envirodelco.org/wp-content/uploads/2025/03/Heinz1.jpg
ORGANIZER;CN="John Heinz National Wildlife Refuge at Tinicum":MAILTO:hannah_thompkins@fws.gov
END:VEVENT
END:VCALENDAR