BEGIN:VCALENDAR
VERSION:2.0
PRODID:-//LWV DelCo Environmental Clearinghouse - ECPv6.15.20//NONSGML v1.0//EN
CALSCALE:GREGORIAN
METHOD:PUBLISH
X-WR-CALNAME:LWV DelCo Environmental Clearinghouse
X-ORIGINAL-URL:https://envirodelco.org
X-WR-CALDESC:Events for LWV DelCo Environmental Clearinghouse
REFRESH-INTERVAL;VALUE=DURATION:PT1H
X-Robots-Tag:noindex
X-PUBLISHED-TTL:PT1H
BEGIN:VTIMEZONE
TZID:America/New_York
BEGIN:DAYLIGHT
TZOFFSETFROM:-0500
TZOFFSETTO:-0400
TZNAME:EDT
DTSTART:20250309T070000
END:DAYLIGHT
BEGIN:STANDARD
TZOFFSETFROM:-0400
TZOFFSETTO:-0500
TZNAME:EST
DTSTART:20251102T060000
END:STANDARD
BEGIN:DAYLIGHT
TZOFFSETFROM:-0500
TZOFFSETTO:-0400
TZNAME:EDT
DTSTART:20260308T070000
END:DAYLIGHT
BEGIN:STANDARD
TZOFFSETFROM:-0400
TZOFFSETTO:-0500
TZNAME:EST
DTSTART:20261101T060000
END:STANDARD
BEGIN:DAYLIGHT
TZOFFSETFROM:-0500
TZOFFSETTO:-0400
TZNAME:EDT
DTSTART:20270314T070000
END:DAYLIGHT
BEGIN:STANDARD
TZOFFSETFROM:-0400
TZOFFSETTO:-0500
TZNAME:EST
DTSTART:20271107T060000
END:STANDARD
END:VTIMEZONE
BEGIN:VEVENT
DTSTART;TZID=America/New_York:20260304T100000
DTEND;TZID=America/New_York:20260304T113000
DTSTAMP:20260419T144910
CREATED:20260116T161003Z
LAST-MODIFIED:20260303T163128Z
UID:11278-1772618400-1772623800@envirodelco.org
SUMMARY:Delaware River Basin Commission Business Meeting 1Q26
DESCRIPTION:Agenda for the March 4th business meeting is now available at http://www.nj.gov/drbc/meetings/upcoming/ \nPlease visit  http://www.nj.gov/drbc/meetings/upcoming/ to register for the business meeting and to view the business meeting agenda (NOTE: agenda updated 3/2/26). Folks interested in giving open public comment should note that when they register for the meeting. \nPublic hearing and business meeting dates and locations are subject to change. Please check the DRBC web site periodically to confirm a scheduled date and/or meeting location. \n\nHearings and business meetings are open to the public.\nLocation information will be available as it is finalized.\n\nAdditional DRBC Updates: \n\nThe DRBC currently has one (1) employment opportunity for an Associate Counsel. The position will remain open until filled. Please review the job description and details on how to apply at https://www.nj.gov/drbc/about/staff/employment-opportunities.html.\nDRBC is hiring three (3) summer interns in our Water Resources Planning Section. These *paid* internships will be from May to September 2026. We’re looking for someone to help with our Water Resources Resilience Plan\, another to work on database management and someone to work on water supply planning. The deadline to apply is March 27\, 2026. Get all the details at https://www.nj.gov/drbc/about/staff/internships.html.\nThe DRBC’s salt application survey closes March 3\, 2026. This anonymous survey\, geared for municipal staff\, contractors and decision-makers\, will help us better understand current salt application practices in the Delaware River Basin. If you know someone working in this space\, please feel free to share. The survey link is  https://docs.google.com/forms/d/e/1FAIpQLSeBj2H2xmds7R363xeNjctydS5jOvtUkvG9EJqiwH231Xcuow/viewform.\nThe DRBC is currently preparing its 2026 Delaware River and Bay Water Quality Assessment Report. Comments and input are currently being solicited from interested parties on the proposed assessment methodology. Folks are able to submit comments through our online system; the deadline is 5 p.m.\, March 31\, 2026. View the proposed methodology and get the details on how to submit your input at  https://www.nj.gov/drbc/public/publications/wq-assessment-rpts.html#wqa\nIn addition to the three internship opportunities mentioned below\, the DRBC is also hiring two interns to support our Water Quality Monitoring programs. One position is seasonal (May – September)\, and one is year-round.  These positions are open until filled. Get all the details at https://www.nj.gov/drbc/about/staff/internships.html.\nOn March 11\, DRBC is hosting the New Jersey Section of the American Water Resources Association’s (NJ-AWRA) Water Leadership Forum. This event will take place at our office in West Trenton\, N.J.\, from 12 p.m. to 2 p.m.\, and will feature a presentation on “Water on the West: Why the East Should Care” by Rutgers Professor Dr. Dan Van Abs. Learn more and register at  https://njawra.org/event-6540046.
URL:https://envirodelco.org/event/delaware-river-basin-commission-public-hearing-copy-copy-copy-copy/
LOCATION:Virtual Meeting
CATEGORIES:Board Meetings,Hearing,Presentation,Virtually
ATTACH;FMTTYPE=image/png:https://envirodelco.org/wp-content/uploads/2026/01/DRBC-Logo.png
ORGANIZER;CN="Delaware River Basin Commission (DRBC)":MAILTO:Kate.Schmidt@drbc.gov
END:VEVENT
BEGIN:VEVENT
DTSTART;TZID=America/New_York:20260305T190000
DTEND;TZID=America/New_York:20260305T200000
DTSTAMP:20260419T144910
CREATED:20260116T164154Z
LAST-MODIFIED:20260116T164154Z
UID:11292-1772737200-1772740800@envirodelco.org
SUMMARY:CRCQL Chester Environmental Justice - General Meeting
DESCRIPTION:The work continues and CRCQL is gearing up for another productive and engaging year ahead. We remain focused on our mission to protect residents’ rights to clean air and a healthy environment.  Below is some information about our upcoming meetings\, 2025 recap and updates on our ongoing campaigns. \nThere will continue to be an onslaught of news this year that will shock\, disorient and disrupt us. A great way to break the negativity spiral is to get involved with local groups\, like CRCQL\, that are actively working on the ground to protect residents rights and prevent further pollution and harm in Delaware County.  Even extending a few hours of time or educating your neighbor on the issues at hand makes all the difference! \nRegister at ChesterPaEJ.org/meeting. We hope to see you at a meeting or event this year.
URL:https://envirodelco.org/event/crcql-chester-environmental-justice-general-meeting-copy-copy-copy/
LOCATION:Virtual Meeting
CATEGORIES:Community Activity,Presentation,Virtually
ORGANIZER;CN="CRCQL":MAILTO:getinvolved@chesterpaej.org
END:VEVENT
BEGIN:VEVENT
DTSTART;TZID=America/New_York:20260307T090000
DTEND;TZID=America/New_York:20260307T120000
DTSTAMP:20260419T144910
CREATED:20260222T181236Z
LAST-MODIFIED:20260222T194804Z
UID:11555-1772874000-1772884800@envirodelco.org
SUMMARY:Rain Garden Workshop
DESCRIPTION:Learn how to reduce storm- water pollution through green solutions.\nLearn how to design\, build and maintain a rain garden.\nBecome part of a broader network to create greener communities.\n\nComing up on March 7th is a FREE workshop on storm-water and rain gardens. Register at: https://www.dcva.org/event-6503168
URL:https://envirodelco.org/event/rain-garden-workshop-2/
LOCATION:CREC (Haverford Community Recreation & Environmental Center)\, 9000 Parkview Drive\, Haverford\, PA\, 19041\, United States
CATEGORIES:Community Activity,Educational,In Person,Workshop
ATTACH;FMTTYPE=image/png:https://envirodelco.org/wp-content/uploads/2026/02/Rain-Garden-Workshop-2026-03-07.png
ORGANIZER;CN="Delaware Creek Valley Association":MAILTO:president@dcva.org
END:VEVENT
BEGIN:VEVENT
DTSTART;TZID=America/New_York:20260313T080000
DTEND;TZID=America/New_York:20260313T153000
DTSTAMP:20260419T144910
CREATED:20260120T183447Z
LAST-MODIFIED:20260311T215421Z
UID:11325-1773388800-1773415800@envirodelco.org
SUMMARY:5th Annual Delaware County Sustainability Conference
DESCRIPTION:NOTICE!  Registration is closed because venue is sold out!! \nLIVE STREAM OPTION: \n\n\nLink:\nhttps://swarthmore.hosted.panopto.com/Panopto/Pages/Viewer.aspx?id=557ee979-2cf2-4e0d-abd3-b40500e1632e\n\n\n\nA live stream web address will be posted here as soon as it is available. \n\nFor the full event calendar\, please see this link: Conference Agenda\n\nFor 2026\, Delaware County is honored to announce that the 5th Annual Sustainability Conference will be held in partnership with the Office of Sustainability at Swarthmore College on Friday\, March 13th for an exciting and inspiring all-day event with topics on grassroots sustainability success\, data centers\, zero waste community action\, and tours of Swarthmore College’s renowned geothermal\, composting\, and food recovery campus features and amenities! This event will provide ample opportunities for sustainability discussion with passionate peers\, nonprofits\, businesses\, professionals\, and more throughout the day’s program. Participants can expect to learn about the importance of sustainability across various topics and scenarios and leave with actionable tools to implement what they have learned in their everyday lives! Space is limited\, so you are encouraged to reserve your spot today! \nGeneral Registration\n\nExhibitor Registration
URL:https://envirodelco.org/event/5th-annual-delaware-county-sustainability-conference/
LOCATION:Swarthmore College\, 500 College Avenue\, Swarthmore\, PA\, 19081\, United States
CATEGORIES:Community Activity,In Person
ATTACH;FMTTYPE=image/jpeg:https://envirodelco.org/wp-content/uploads/2026/01/2026-Sustainability-Conference-Flyer-jpeg.jpg
END:VEVENT
BEGIN:VEVENT
DTSTART;TZID=America/New_York:20260316T190000
DTEND;TZID=America/New_York:20260316T203000
DTSTAMP:20260419T144910
CREATED:20260114T163422Z
LAST-MODIFIED:20260309T213226Z
UID:11223-1773687600-1773693000@envirodelco.org
SUMMARY:Delaware County Green Team Meeting
DESCRIPTION:Link to Register:    \n \nhttps://act.sierraclub.org/events/details?formcampaignid=701Po00001PoeY5IAJ\n\n\n\n\n\nThe SC DelCo Green Team is committed to educating people about and increasing the use of clean energy\, zero waste solutions\, & sustainable policies in all DelCo municipalities.  Our activities include: \n\nAdvocating and lobbying for environmental legislation.\nParticipating in marches\, rallies\, and demonstrations.\nEngaging with DelCo residents individually and in groups during community events\, to inform and support them in making environmentally friendly choices.\nSponsoring outings in natural areas and other locations of environmental interest.\nSupporting local governments in making sustainable improvements\, including establishing municipal Environmental Advisory Councils (EACs).\nSupporting marginalized communities in their efforts against polluting industries being sited there.\nCollaborating with other environmental organizations on larger scale actions.\n\nPlease lend your creativity & input. Join any of our meetings or ongoing activities to help make our communities cleaner\, healthier\, and more resilient to the impacts of climate change.
URL:https://envirodelco.org/event/delaware-county-green-team-meeting-copy/
LOCATION:Virtual Meeting
CATEGORIES:Presentation,Virtually
ATTACH;FMTTYPE=image/png:https://envirodelco.org/wp-content/uploads/2025/01/Sierra-Club-PA-logo-e1770584216366.png
ORGANIZER;CN="Sierra Club Delco Green Team":MAILTO:Howardsherman8@gmail.com
END:VEVENT
BEGIN:VEVENT
DTSTART;TZID=America/New_York:20260317T080000
DTEND;TZID=America/New_York:20260317T170000
DTSTAMP:20260419T144910
CREATED:20260205T195136Z
LAST-MODIFIED:20260205T195136Z
UID:11390-1773734400-1773766800@envirodelco.org
SUMMARY:CDRW's Annual Hill Day (The deadline to register is Friday\, February 13)
DESCRIPTION:This is a good reminder to celebrate the things we care about most. For us\, that means the Delaware River Basin and all the life it supports. Here are a few of the things we’re grateful for this season: \n Clean drinking water for over 14 million people\n Habitats for birds\, fish\, and other wildlife\n Creeks and streams to kayak\, canoe\, and explore \nFeeling inspired to show your love for the river? Registration is now open for CDRW’s Annual Hill Day\, happening Tuesday\, March 17\, 2026 in Washington\, D.C. This is your chance to meet with Congressional offices and advocate for policies that protect and restore the Delaware River Watershed. Sign up by Friday\, February 13\, 2026 to secure your spot! \n\n\n\n\n\n\n2026 Hill Day Registration \n\n\n\n\n\n\nFor questions regarding hill day registration\, lodging and logistics\, please reach out to Maria Castro. 
URL:https://envirodelco.org/event/cdrws-annual-hill-day-the-deadline-to-register-is-friday-february-13/
CATEGORIES:Community Activity,In Person
ATTACH;FMTTYPE=image/png:https://envirodelco.org/wp-content/uploads/2026/02/CDWR-Hill-Day-2026.png
ORGANIZER;CN="Coalition for the Delaware Watershed (CDRW)":MAILTO:Maria.Castro@delriverwatershed.org
END:VEVENT
BEGIN:VEVENT
DTSTART;TZID=America/New_York:20260320T120000
DTEND;TZID=America/New_York:20260320T130000
DTSTAMP:20260419T144910
CREATED:20251216T195541Z
LAST-MODIFIED:20251216T195828Z
UID:11048-1774008000-1774011600@envirodelco.org
SUMMARY:Emerging Water Issues in PA – Managing Pollutant Threats
DESCRIPTION:Water is the source of all life. But in recent years\, awareness of novel pollutants like microplastics and per- and polyfluoroalkyl substances (PFAS) or “forever chemicals” has raised new questions about how we can safely manage this critical resource and reduce the threats to human health and ecological integrity. As we celebrate World Water Day\, come learn about these emerging issues and Pennsylvania’s waters. \n\nDr. Sherri A. “Sam” Mason\, Director\, Project NePTWNE\, Gannon University\nDr. Heather Preisendanz\, Director of the Institute for Sustainable Agricultural\, Food\, and Environmental Science\, Penn State University\n\nSign Up!
URL:https://envirodelco.org/event/emerging-water-issues-in-pa-managing-pollutant-threats/
LOCATION:Virtual Meeting
CATEGORIES:Educational,Presentation,Virtually
END:VEVENT
BEGIN:VEVENT
DTSTART;TZID=America/New_York:20260321T083000
DTEND;TZID=America/New_York:20260321T180000
DTSTAMP:20260419T144910
CREATED:20260215T155634Z
LAST-MODIFIED:20260222T201149Z
UID:11455-1774081800-1774116000@envirodelco.org
SUMMARY:Beyond Plastics Network Regional Conference
DESCRIPTION:It’s easy to get burned out but we’ve got your back with Radical Optimism for a World Beyond Plastic! Let’s renew our commitment to eradicate single-use plastic that harms the environment\, our health and further burdens environmental justice communities. Let’s get energized and learn new ways to engage others in this work— and keep them engaged. \nThrough interactive workshops\, you’ll build organizing skills to strengthen your advocacy\, including power mapping\, building and energizing your base\, engaging local officials\, and organizing film screenings or book events. You’ll also hear from President Judith Enck on the big picture—and be inspired by wins from across the network.
URL:https://envirodelco.org/event/beyond-plastics-network-regional-conference/
LOCATION:The Franklin Institute\, 222 N 20th St\, Philadelphia\, PA\, 19103\, United States
CATEGORIES:Conference,In Person
ORGANIZER;CN="Food & Water Watch Pennsylvania":MAILTO:info@fwwatch.org
END:VEVENT
END:VCALENDAR