BEGIN:VCALENDAR
VERSION:2.0
PRODID:-//LWV DelCo Environmental Clearinghouse - ECPv6.15.20//NONSGML v1.0//EN
CALSCALE:GREGORIAN
METHOD:PUBLISH
X-WR-CALNAME:LWV DelCo Environmental Clearinghouse
X-ORIGINAL-URL:https://envirodelco.org
X-WR-CALDESC:Events for LWV DelCo Environmental Clearinghouse
REFRESH-INTERVAL;VALUE=DURATION:PT1H
X-Robots-Tag:noindex
X-PUBLISHED-TTL:PT1H
BEGIN:VTIMEZONE
TZID:America/New_York
BEGIN:DAYLIGHT
TZOFFSETFROM:-0500
TZOFFSETTO:-0400
TZNAME:EDT
DTSTART:20250309T070000
END:DAYLIGHT
BEGIN:STANDARD
TZOFFSETFROM:-0400
TZOFFSETTO:-0500
TZNAME:EST
DTSTART:20251102T060000
END:STANDARD
BEGIN:DAYLIGHT
TZOFFSETFROM:-0500
TZOFFSETTO:-0400
TZNAME:EDT
DTSTART:20260308T070000
END:DAYLIGHT
BEGIN:STANDARD
TZOFFSETFROM:-0400
TZOFFSETTO:-0500
TZNAME:EST
DTSTART:20261101T060000
END:STANDARD
BEGIN:DAYLIGHT
TZOFFSETFROM:-0500
TZOFFSETTO:-0400
TZNAME:EDT
DTSTART:20270314T070000
END:DAYLIGHT
BEGIN:STANDARD
TZOFFSETFROM:-0400
TZOFFSETTO:-0500
TZNAME:EST
DTSTART:20271107T060000
END:STANDARD
END:VTIMEZONE
BEGIN:VEVENT
DTSTART;TZID=America/New_York:20260127T120000
DTEND;TZID=America/New_York:20260127T130000
DTSTAMP:20260420T115201
CREATED:20260116T205310Z
LAST-MODIFIED:20260116T205310Z
UID:11297-1769515200-1769518800@envirodelco.org
SUMMARY:DRBC Sea Level Rise Report
DESCRIPTION:The Delaware River is the largest undammed river in the eastern United States and is tidally influenced. Generally\, sea level rise is expected to push the salt front – the location where the river is no longer considered fresh water – farther upstream than typically seen today. \nJoin Delaware River Basin Commission staff to hear about a new report evaluating how sea level rise will affect salinity in the Delaware River and detailing how far upstream salt water or salinity could reach under multiple sea level rise scenarios and flow conditions. \n Register for the webinar
URL:https://envirodelco.org/event/drbc-sea-level-rise-report/
LOCATION:Virtual Meeting
CATEGORIES:Educational,Presentation,Virtually
ATTACH;FMTTYPE=image/png:https://envirodelco.org/wp-content/uploads/2026/01/DRBC-Logo.png
ORGANIZER;CN="Delaware River Basin Commission (DRBC)":MAILTO:Kate.Schmidt@drbc.gov
END:VEVENT
BEGIN:VEVENT
DTSTART;TZID=America/New_York:20260127T120000
DTEND;TZID=America/New_York:20260127T130000
DTSTAMP:20260420T115201
CREATED:20260114T212343Z
LAST-MODIFIED:20260114T212343Z
UID:11253-1769515200-1769518800@envirodelco.org
SUMMARY:Community Forestry: Forester’s Featured Working Trees $
DESCRIPTION:Some planting sites challenge even experienced landscapers with heat\, drought\, flooding\, or poor soils\, leaving these areas as eyesores or difficult-to-manage spaces. In this one-hour session\, Bureau of Forestry Service Forester Steven Laskowski and Penn State Extension’s Scott Sjolander will explore both familiar and lesser-known woody plant solutions for Pennsylvania’s varied environmental contexts. Participants will gain practical strategies for selecting and establishing trees that thrive in tough sites\, thinking creatively to enhance tree cover across diverse landscapes. \nDetailed info and registration. \n 
URL:https://envirodelco.org/event/community-forestry-foresters-featured-working-trees/
LOCATION:Virtual Meeting
CATEGORIES:Educational,Presentation,Virtually
END:VEVENT
BEGIN:VEVENT
DTSTART;TZID=America/New_York:20260124T090000
DTEND;TZID=America/New_York:20260124T110000
DTSTAMP:20260420T115201
CREATED:20260105T171258Z
LAST-MODIFIED:20260105T171258Z
UID:11100-1769245200-1769252400@envirodelco.org
SUMMARY:Bird Walk with Debbie Beer
DESCRIPTION:Take an educational walk with one of our knowledgeable volunteers! Discover the 300+ species of birds that use the Refuge during their migration routes – each week guarantee different species! Walk will meet by visitor center and be at a relaxed paced on flat surfaces. There are restrooms near the trailhead. No registration required. \n\n\n\n\n\n\nEvent date and time\nJan 24\, 2026 9:00 am – Jan 24\, 2026 11:00 am (EST)
URL:https://envirodelco.org/event/bird-walk-with-debbie-beer/
LOCATION:John Heinz National Wildlike Refuge at Tinicum\, 8601 Lindbergh Boulevard\, Philadelphia\, PA\, 19153-2501\, United States
CATEGORIES:Community Activity,In Person
ATTACH;FMTTYPE=image/jpeg:https://envirodelco.org/wp-content/uploads/2025/03/Heinz1.jpg
ORGANIZER;CN="John Heinz National Wildlife Refuge at Tinicum":MAILTO:hannah_thompkins@fws.gov
END:VEVENT
BEGIN:VEVENT
DTSTART;TZID=America/New_York:20260122T190000
DTEND;TZID=America/New_York:20260122T200000
DTSTAMP:20260420T115201
CREATED:20260116T163658Z
LAST-MODIFIED:20260116T163658Z
UID:11286-1769108400-1769112000@envirodelco.org
SUMMARY:CRCQL Chester Environmental Justice - General Meeting
DESCRIPTION:The work continues and CRCQL is gearing up for another productive and engaging year ahead. We remain focused on our mission to protect residents’ rights to clean air and a healthy environment.  Below is some information about our upcoming meetings\, 2025 recap and updates on our ongoing campaigns. \nThere will continue to be an onslaught of news this year that will shock\, disorient and disrupt us. A great way to break the negativity spiral is to get involved with local groups\, like CRCQL\, that are actively working on the ground to protect residents rights and prevent further pollution and harm in Delaware County.  Even extending a few hours of time or educating your neighbor on the issues at hand makes all the difference! \nThe 1st Community Meeting of the year will be Thursday\, January 22 at 7pm on Zoom.  Register at ChesterPaEJ.org/meeting. We hope to see you at a meeting or event this year. \nRegister Here
URL:https://envirodelco.org/event/crcql-chester-environmental-justice-general-meeting/
LOCATION:Virtual Meeting
CATEGORIES:Community Activity,Presentation,Virtually
ORGANIZER;CN="CRCQL":MAILTO:getinvolved@chesterpaej.org
END:VEVENT
BEGIN:VEVENT
DTSTART;TZID=America/New_York:20260122T183000
DTEND;TZID=America/New_York:20260122T193000
DTSTAMP:20260420T115201
CREATED:20260106T193846Z
LAST-MODIFIED:20260106T193846Z
UID:11107-1769106600-1769110200@envirodelco.org
SUMMARY:Multipurpose Natives: Creating Habitat through Cut Flower Gardening ($ pay what you wish)
DESCRIPTION:A joint program of Brandywine Conservancy’s Native Plant Series and Stewardship Series \nGrow beauty with purpose. Join Jennie Love\, owner of Love ‘n Fresh Flowers as she reviews the tenants of regenerative growing practices for thoughtful land stewardship as well as the value of incorporating natives in the gardening landscape. Explore a curated list of native plants ideal for cutting\, hear tips for growing them\, and learn about the ecological benefits they provide. The program wraps with time for your questions. \nAbout the presenter \nJennie started Love ‘n Fresh Flowers\, a regenerative flower farm located in Philadelphia\, Pennsylvania in 2009. This vibrant five-acre flower farm is dedicated to stewarding a healthy ecosystem for creatures of all shapes and sizes. They focus on growing cut flowers and foliage\, specializing in native and perennial crops. Since then\, her work has been featured in the New York Times\, Martha Stewart Weddings\, Country Gardens\, The Philadelphia Inquirer\, and elsewhere. Read more about Jennie and her farm. \nThis event is open to the public and may be recorded. It is a “pay what you wish” program with proceeds covering presenter fees and supporting Brandywine Conservancy’s education and stewardship initiatives. Registration is required to receive the Zoom link. Thank you for considering a donation. \nThe annual Native Plant Series offers a varied focus on native plants throughout the seasons for gardeners of all levels and learning styles. The 2026 “Misunderstood Natives” theme aims to explore diverse perceptions of native plants\, inviting audiences to see them through a new lens—one that offers fresh insights and practical tools for understanding the value native species bring to people\, wildlife\, and the places we live. \nThe Stewardship Series hosts educational programs on land management challenges\, and other topics of interest to easement landowners. Topics may include ecosystem restoration\, invasive species management\, incorporating best management practices (BMPs)\, farm management\, programs to assist landowners\, such as the Conservation Reserve Enhancement Program (CREP). \nAll are welcome to attend. \nDue to technical difficulties beyond our control\, you may not immediately receive a confirmation email after registering\, but you will receive the Zoom login information in the reminder email that will be sent the morning of the program. If you wish to double check your registration\, please email Julia Steiner at jsteiner@brandywine.org. Approximately two weeks after the program\, all registrants will receive a link to the recording to watch at their leisure.
URL:https://envirodelco.org/event/multipurpose-natives-creating-habitat-through-cut-flower-gardening-pay-what-you-wish/
LOCATION:Virtual Meeting
CATEGORIES:Educational,Presentation,Virtually
ORGANIZER;CN="Brandywine Conservancy":MAILTO:information@brandywine.org
END:VEVENT
BEGIN:VEVENT
DTSTART;TZID=America/New_York:20260122T160000
DTEND;TZID=America/New_York:20260122T170000
DTSTAMP:20260420T115201
CREATED:20260105T170955Z
LAST-MODIFIED:20260105T170955Z
UID:11098-1769097600-1769101200@envirodelco.org
SUMMARY:Refuge Shuttle Tour
DESCRIPTION:Join us for a guided shuttle tour with stops at iconic refuge sites! Space is limited and registration is required by sending an email with how many people you are expecting and a phone number for coordination to daniel_garcia-pineda@fws.gov. \n\n\n\n\n\n\nEvent date and time\nJan 22\, 2026 4:00 pm – Jan 22\, 2026 5:00 pm (EST)
URL:https://envirodelco.org/event/refuge-shuttle-tour/
LOCATION:John Heinz National Wildlike Refuge at Tinicum\, 8601 Lindbergh Boulevard\, Philadelphia\, PA\, 19153-2501\, United States
CATEGORIES:Community Activity,In Person,National Parks
ATTACH;FMTTYPE=image/png:https://envirodelco.org/wp-content/uploads/2025/07/JohnHeinzWildlifeRefuge-banner.png
ORGANIZER;CN="John Heinz National Wildlife Refuge at Tinicum":MAILTO:hannah_thompkins@fws.gov
END:VEVENT
BEGIN:VEVENT
DTSTART;TZID=America/New_York:20260122T150000
DTEND;TZID=America/New_York:20260122T163000
DTSTAMP:20260420T115201
CREATED:20260114T203747Z
LAST-MODIFIED:20260114T203747Z
UID:11249-1769094000-1769099400@envirodelco.org
SUMMARY:The Plastic Problem: Solutions for Greener Living
DESCRIPTION:Plastics and PFAS are everywhere—from our food containers to our clothing. Join us to learn about the hidden health risks of these materials in your everyday life and discover practical\, affordable solutions to create a safer home for your family. We’ll cover easy swaps\, what to avoid\, and actionable steps you can take today. Plus\, bring your questions for our live Q&A! \n~All registrants will receive the recording by email or you can find it on our youtube: https://www.youtube.com/@Iamagreenamerican \nIf you require an ASL interpreter\, please email ekriss@greenamerica.org \nRegister Here
URL:https://envirodelco.org/event/the-plastic-problem-solutions-for-greener-living/
LOCATION:Virtual Meeting
ATTACH;FMTTYPE=image/png:https://envirodelco.org/wp-content/uploads/2026/01/GreenAmerica-Webinar-2026-01-22.png
END:VEVENT
BEGIN:VEVENT
DTSTART;TZID=America/New_York:20260122T100000
DTEND;TZID=America/New_York:20260122T120000
DTSTAMP:20260420T115201
CREATED:20260112T223511Z
LAST-MODIFIED:20260112T223511Z
UID:11214-1769076000-1769083200@envirodelco.org
SUMMARY:The DVRPC Board- January 22\, 2026
DESCRIPTION:10:00 am\, January 22\, 2026 \nRegister Now \nONLINE ONLY. Call In Phone Number: 1-346-248-7799 Meeting ID: 848 8759 7319 Passcode: 84555182 \n1. CALL TO ORDER\, CHAIR’S COMMENTS\, ROLL CALL \n2. PUBLIC COMMENTS ON AGENDA AND NON-AGENDA ITEMS \n3. EXECUTIVE DIRECTOR’S REPORT \nACTION ITEMS \n4. December 3\, 2025\, Meeting Minutes \n5. Transportation Improvement Program (TIP) Actions \n\nNJ26-004: Route 168\, Merchant Street to Ferry Avenue\, Pavement (DB #10341)\, Camden County – Add Project Back into the TIP\nNJ26-005: ADA South\, Contract 4 (DB #15423)\, Camden County – Add Project Back into the TIP\nPA25-076: Benjamin Franklin Bridge Safety Improvements (MPMS #72597) and Ben Franklin Bridge Eastbound Operational Improvements (MPMS #105290)\, City of Philadelphia – Increase CON Phase (MPMS #72597) and Remove Project from the TIP (MPMS #105290)\nPA25-077: Bus Purchase Program (MPMS #90512)\, SEPTA – Add New Competitive Award\nPA25-078: Various SEPTA Programs (Various MPMS #’s)\, SEPTA – Increase Funding for Various SEPTA Projects \nPA25-079: Route 1 Improvements Frontage Corridor (Section RC3)\, Bucks County – Shift ROW Phase to LFY and Increase Funding\nPA25-080: SR30/SR10 to Business 30 Interchange Improvement\, Chester County – Shift FD and ROW Phases to LFY and Increase Funding\n\n6. Adoption of the DVRPC Fiscal Year 2027 Unified Planning Work Program and TIP Amendments \n7. Adoption of Updated Regional Roadway Safety Targets \nDISCUSSION ITEMS \n8. Federal Surface Transportation Reauthorization: Updates from the Association for Metropolitan Planning Organizations (AMPO) \n9. Other Business \n\nOne Minute Reports\nCommittee Reports\n\nRegional Technical Committee\n\n\nOld Business\nNew Business\n\n10. Adjournment
URL:https://envirodelco.org/event/the-dvrpc-board-january-22-2026/
LOCATION:DVRPC\, 190 N. Independence Mall West\, 8th Floor\, Philadelphia\, PA\, 19106\, United States
CATEGORIES:Board Meetings,Presentation,Virtually
ORGANIZER;CN="DVRPC-Delaware Valley River Planning Commisssion":MAILTO:public_affairs@dvrpc.org
END:VEVENT
BEGIN:VEVENT
DTSTART;TZID=America/New_York:20260121T150000
DTEND;TZID=America/New_York:20260121T160000
DTSTAMP:20260420T115201
CREATED:20260107T220237Z
LAST-MODIFIED:20260107T220237Z
UID:11168-1769007600-1769011200@envirodelco.org
SUMMARY:DCSWA - Legislative Meeting (Board Voting)
DESCRIPTION:Legislative Meetings (Board Voting)\n\n3 pm (see calendar for exceptions)\n3rd Wednesday of every month (check calendar to confirm in case of cancellations)\n610 E Baltimore Pike\nMedia\, PA 19063\nParticipants may also access these LEGISLATIVE meetings virtually.\nBE CAREFUL TO SELECT THE CORRECT MEETING DATE AND SESSION FROM THE ZOOM REGISTRATION PAGE. THIS LINK IS FOR LEGISLASTIVE SESSIONS. FOR GENERAL SESSIONS\, USE THE LINK ABOVE.\n\n\nView Most Recent Agendas and Minutes
URL:https://envirodelco.org/event/dcswa-legislative-meeting-board-voting/
LOCATION:DCSWA\, 601 E. Baltimore Ave\, Media\, PA\, 19063\, United States
CATEGORIES:Board Meetings,In Person,Virtually
ATTACH;FMTTYPE=image/png:https://envirodelco.org/wp-content/uploads/2026/01/DCSWA-Logo.png
END:VEVENT
END:VCALENDAR