BEGIN:VCALENDAR
VERSION:2.0
PRODID:-//LWV DelCo Environmental Clearinghouse - ECPv6.15.20//NONSGML v1.0//EN
CALSCALE:GREGORIAN
METHOD:PUBLISH
X-WR-CALNAME:LWV DelCo Environmental Clearinghouse
X-ORIGINAL-URL:https://envirodelco.org
X-WR-CALDESC:Events for LWV DelCo Environmental Clearinghouse
REFRESH-INTERVAL;VALUE=DURATION:PT1H
X-Robots-Tag:noindex
X-PUBLISHED-TTL:PT1H
BEGIN:VTIMEZONE
TZID:America/New_York
BEGIN:DAYLIGHT
TZOFFSETFROM:-0500
TZOFFSETTO:-0400
TZNAME:EDT
DTSTART:20250309T070000
END:DAYLIGHT
BEGIN:STANDARD
TZOFFSETFROM:-0400
TZOFFSETTO:-0500
TZNAME:EST
DTSTART:20251102T060000
END:STANDARD
BEGIN:DAYLIGHT
TZOFFSETFROM:-0500
TZOFFSETTO:-0400
TZNAME:EDT
DTSTART:20260308T070000
END:DAYLIGHT
BEGIN:STANDARD
TZOFFSETFROM:-0400
TZOFFSETTO:-0500
TZNAME:EST
DTSTART:20261101T060000
END:STANDARD
BEGIN:DAYLIGHT
TZOFFSETFROM:-0500
TZOFFSETTO:-0400
TZNAME:EDT
DTSTART:20270314T070000
END:DAYLIGHT
BEGIN:STANDARD
TZOFFSETFROM:-0400
TZOFFSETTO:-0500
TZNAME:EST
DTSTART:20271107T060000
END:STANDARD
END:VTIMEZONE
BEGIN:VEVENT
DTSTART;TZID=America/New_York:20260303T170000
DTEND;TZID=America/New_York:20260303T173000
DTSTAMP:20260420T101554
CREATED:20260224T192025Z
LAST-MODIFIED:20260224T192025Z
UID:11573-1772557200-1772559000@envirodelco.org
SUMMARY:What’s Happening in Harrisburg? Find Out at The Briefing!
DESCRIPTION:Don’t let the twists and turns of Pennsylvania’s legislative process surprise you in 2026! We are excited to announce the return of The Briefing on March 3rd. In just 30 minutes\, find out what’s happening in Harrisburg and what you can do about it. We’ll be digging into all the hot topics\, including Governor Shapiro’s budget proposal and a deluge of data center legislation. \nWHAT: The Briefing – Live Legislative Updates with Sierra Club Pennsylvania\nWHEN: Tuesday\, March 3 @ 5:00PM ET\nWHERE: Virtual via Zoom\nLink and call-in details will be sent after registration. \nRSVP Today \nWhether you’re on the way home from the office\, picking up the kids from school\, or walking the dog\, we’ll help you stay up to date on the critical environmental discussions taking place in Harrisburg. Add The Briefing to your Tuesday afternoon routine! \n 
URL:https://envirodelco.org/event/whats-happening-in-harrisburg-find-out-at-the-briefing/
LOCATION:Virtual Meeting
CATEGORIES:Educational,Presentation,Virtually
ATTACH;FMTTYPE=image/png:https://envirodelco.org/wp-content/uploads/2025/01/Sierra-Club-PA-logo-e1770584216366.png
ORGANIZER;CN="Sierra Club Pennsylvania Chapter":MAILTO:melissa.farr@sierraclub.org
END:VEVENT
BEGIN:VEVENT
DTSTART;TZID=America/New_York:20260303T190000
DTEND;TZID=America/New_York:20260303T200000
DTSTAMP:20260420T101554
CREATED:20260224T214617Z
LAST-MODIFIED:20260224T214617Z
UID:11590-1772564400-1772568000@envirodelco.org
SUMMARY:Learn about the Hidden Cost of Data Centers
DESCRIPTION:Artificial intelligence is on the rise\, and the data centers that power it are expanding rapidly across the country. These facilities are often powered by fossil fuels and enormous backup diesel generators\, which have a profound impact on our communities\, energy bills\, and climate. Join our next Action Hour on March 3\, where we will talk about the threat of the prolific growth of data centers and what we can do about them. These interactive webinars feature updates from our Sierra Club experts and take place virtually\, so you can join from anywhere and take two key actions in just one hour. \nRSVP to join us live on March 3 or to receive the recording!
URL:https://envirodelco.org/event/learn-about-the-hidden-cost-of-data-centers/
LOCATION:Virtual Meeting
CATEGORIES:Educational,Presentation,Virtually
ATTACH;FMTTYPE=image/png:https://envirodelco.org/wp-content/uploads/2025/06/Sierra-Club-Action-Hour-Logo.png
END:VEVENT
BEGIN:VEVENT
DTSTART;TZID=America/New_York:20260304T100000
DTEND;TZID=America/New_York:20260304T113000
DTSTAMP:20260420T101554
CREATED:20260116T161003Z
LAST-MODIFIED:20260303T163128Z
UID:11278-1772618400-1772623800@envirodelco.org
SUMMARY:Delaware River Basin Commission Business Meeting 1Q26
DESCRIPTION:Agenda for the March 4th business meeting is now available at http://www.nj.gov/drbc/meetings/upcoming/ \nPlease visit  http://www.nj.gov/drbc/meetings/upcoming/ to register for the business meeting and to view the business meeting agenda (NOTE: agenda updated 3/2/26). Folks interested in giving open public comment should note that when they register for the meeting. \nPublic hearing and business meeting dates and locations are subject to change. Please check the DRBC web site periodically to confirm a scheduled date and/or meeting location. \n\nHearings and business meetings are open to the public.\nLocation information will be available as it is finalized.\n\nAdditional DRBC Updates: \n\nThe DRBC currently has one (1) employment opportunity for an Associate Counsel. The position will remain open until filled. Please review the job description and details on how to apply at https://www.nj.gov/drbc/about/staff/employment-opportunities.html.\nDRBC is hiring three (3) summer interns in our Water Resources Planning Section. These *paid* internships will be from May to September 2026. We’re looking for someone to help with our Water Resources Resilience Plan\, another to work on database management and someone to work on water supply planning. The deadline to apply is March 27\, 2026. Get all the details at https://www.nj.gov/drbc/about/staff/internships.html.\nThe DRBC’s salt application survey closes March 3\, 2026. This anonymous survey\, geared for municipal staff\, contractors and decision-makers\, will help us better understand current salt application practices in the Delaware River Basin. If you know someone working in this space\, please feel free to share. The survey link is  https://docs.google.com/forms/d/e/1FAIpQLSeBj2H2xmds7R363xeNjctydS5jOvtUkvG9EJqiwH231Xcuow/viewform.\nThe DRBC is currently preparing its 2026 Delaware River and Bay Water Quality Assessment Report. Comments and input are currently being solicited from interested parties on the proposed assessment methodology. Folks are able to submit comments through our online system; the deadline is 5 p.m.\, March 31\, 2026. View the proposed methodology and get the details on how to submit your input at  https://www.nj.gov/drbc/public/publications/wq-assessment-rpts.html#wqa\nIn addition to the three internship opportunities mentioned below\, the DRBC is also hiring two interns to support our Water Quality Monitoring programs. One position is seasonal (May – September)\, and one is year-round.  These positions are open until filled. Get all the details at https://www.nj.gov/drbc/about/staff/internships.html.\nOn March 11\, DRBC is hosting the New Jersey Section of the American Water Resources Association’s (NJ-AWRA) Water Leadership Forum. This event will take place at our office in West Trenton\, N.J.\, from 12 p.m. to 2 p.m.\, and will feature a presentation on “Water on the West: Why the East Should Care” by Rutgers Professor Dr. Dan Van Abs. Learn more and register at  https://njawra.org/event-6540046.
URL:https://envirodelco.org/event/delaware-river-basin-commission-public-hearing-copy-copy-copy-copy/
LOCATION:Virtual Meeting
CATEGORIES:Board Meetings,Hearing,Presentation,Virtually
ATTACH;FMTTYPE=image/png:https://envirodelco.org/wp-content/uploads/2026/01/DRBC-Logo.png
ORGANIZER;CN="Delaware River Basin Commission (DRBC)":MAILTO:Kate.Schmidt@drbc.gov
END:VEVENT
BEGIN:VEVENT
DTSTART;TZID=America/New_York:20260304T180000
DTEND;TZID=America/New_York:20260304T190000
DTSTAMP:20260420T101554
CREATED:20260303T200138Z
LAST-MODIFIED:20260303T200138Z
UID:11666-1772647200-1772650800@envirodelco.org
SUMMARY:PPTF: Planning and Funding Transportation Infrastructure Across the Region
DESCRIPTION:Meeting will be held online via Zoom \nRegister to attend \nJoin DVRPC online on Wednesday\, March 4\, at 6:00 pm\, for our next Public Participation Task Force meeting. This session will help explain two key plans that guide transportation decision-making: Update: Connections 2050\, the region’s long-range plan\, and the Transportation Improvement Program (TIP)\, which identifies projects prioritized for near-term funding. Participants will learn how these plans influence transportation investments and how residents can submit public comments during their development and updates to help inform regional transportation decisions. \nDVRPC staff who work directly on long-range planning and project programming will be available to explain the process and answer questions.
URL:https://envirodelco.org/event/pptf-planning-and-funding-transportation-infrastructure-across-the-region/
LOCATION:Virtual Meeting
CATEGORIES:Board Meetings,Presentation,Virtually
ATTACH;FMTTYPE=image/png:https://envirodelco.org/wp-content/uploads/2026/03/dvrpc-logo.png
ORGANIZER;CN="DVRPC-Delaware Valley River Planning Commisssion":MAILTO:public_affairs@dvrpc.org
END:VEVENT
BEGIN:VEVENT
DTSTART;TZID=America/New_York:20260305T190000
DTEND;TZID=America/New_York:20260305T200000
DTSTAMP:20260420T101554
CREATED:20260116T164154Z
LAST-MODIFIED:20260116T164154Z
UID:11292-1772737200-1772740800@envirodelco.org
SUMMARY:CRCQL Chester Environmental Justice - General Meeting
DESCRIPTION:The work continues and CRCQL is gearing up for another productive and engaging year ahead. We remain focused on our mission to protect residents’ rights to clean air and a healthy environment.  Below is some information about our upcoming meetings\, 2025 recap and updates on our ongoing campaigns. \nThere will continue to be an onslaught of news this year that will shock\, disorient and disrupt us. A great way to break the negativity spiral is to get involved with local groups\, like CRCQL\, that are actively working on the ground to protect residents rights and prevent further pollution and harm in Delaware County.  Even extending a few hours of time or educating your neighbor on the issues at hand makes all the difference! \nRegister at ChesterPaEJ.org/meeting. We hope to see you at a meeting or event this year.
URL:https://envirodelco.org/event/crcql-chester-environmental-justice-general-meeting-copy-copy-copy/
LOCATION:Virtual Meeting
CATEGORIES:Community Activity,Presentation,Virtually
ORGANIZER;CN="CRCQL":MAILTO:getinvolved@chesterpaej.org
END:VEVENT
BEGIN:VEVENT
DTSTART;TZID=America/New_York:20260316T190000
DTEND;TZID=America/New_York:20260316T203000
DTSTAMP:20260420T101554
CREATED:20260114T163422Z
LAST-MODIFIED:20260309T213226Z
UID:11223-1773687600-1773693000@envirodelco.org
SUMMARY:Delaware County Green Team Meeting
DESCRIPTION:Link to Register:    \n \nhttps://act.sierraclub.org/events/details?formcampaignid=701Po00001PoeY5IAJ\n\n\n\n\n\nThe SC DelCo Green Team is committed to educating people about and increasing the use of clean energy\, zero waste solutions\, & sustainable policies in all DelCo municipalities.  Our activities include: \n\nAdvocating and lobbying for environmental legislation.\nParticipating in marches\, rallies\, and demonstrations.\nEngaging with DelCo residents individually and in groups during community events\, to inform and support them in making environmentally friendly choices.\nSponsoring outings in natural areas and other locations of environmental interest.\nSupporting local governments in making sustainable improvements\, including establishing municipal Environmental Advisory Councils (EACs).\nSupporting marginalized communities in their efforts against polluting industries being sited there.\nCollaborating with other environmental organizations on larger scale actions.\n\nPlease lend your creativity & input. Join any of our meetings or ongoing activities to help make our communities cleaner\, healthier\, and more resilient to the impacts of climate change.
URL:https://envirodelco.org/event/delaware-county-green-team-meeting-copy/
LOCATION:Virtual Meeting
CATEGORIES:Presentation,Virtually
ATTACH;FMTTYPE=image/png:https://envirodelco.org/wp-content/uploads/2025/01/Sierra-Club-PA-logo-e1770584216366.png
ORGANIZER;CN="Sierra Club Delco Green Team":MAILTO:Howardsherman8@gmail.com
END:VEVENT
BEGIN:VEVENT
DTSTART;TZID=America/New_York:20260320T120000
DTEND;TZID=America/New_York:20260320T130000
DTSTAMP:20260420T101554
CREATED:20251216T195541Z
LAST-MODIFIED:20251216T195828Z
UID:11048-1774008000-1774011600@envirodelco.org
SUMMARY:Emerging Water Issues in PA – Managing Pollutant Threats
DESCRIPTION:Water is the source of all life. But in recent years\, awareness of novel pollutants like microplastics and per- and polyfluoroalkyl substances (PFAS) or “forever chemicals” has raised new questions about how we can safely manage this critical resource and reduce the threats to human health and ecological integrity. As we celebrate World Water Day\, come learn about these emerging issues and Pennsylvania’s waters. \n\nDr. Sherri A. “Sam” Mason\, Director\, Project NePTWNE\, Gannon University\nDr. Heather Preisendanz\, Director of the Institute for Sustainable Agricultural\, Food\, and Environmental Science\, Penn State University\n\nSign Up!
URL:https://envirodelco.org/event/emerging-water-issues-in-pa-managing-pollutant-threats/
LOCATION:Virtual Meeting
CATEGORIES:Educational,Presentation,Virtually
END:VEVENT
BEGIN:VEVENT
DTSTART;TZID=America/New_York:20260324T190000
DTEND;TZID=America/New_York:20260324T200000
DTSTAMP:20260420T101554
CREATED:20260323T194947Z
LAST-MODIFIED:20260323T194947Z
UID:11837-1774378800-1774382400@envirodelco.org
SUMMARY:Parks Not Prisons: Defending our Communities & Lands from Border Walls and Detention Camps
DESCRIPTION:Across the country\, some of America’s most treasured landscapes\, from Big Bend National Park to the Santa Ana National Wildlife Refuge\, are facing new threats from border wall construction\, militarization\, and proposals for detention facilities. \nJoin Sierra Club\, frontline advocates\, and legal experts for a conversation about what’s happening on the ground\, the strategies we’re employing to fight back\, and how you can help defend our communities and public lands.
URL:https://envirodelco.org/event/parks-not-prisons-defending-our-communities-lands-from-border-walls-and-detention-camps/
LOCATION:Virtual Meeting
CATEGORIES:Action Instructions,National Parks,Presentation,Virtually
END:VEVENT
BEGIN:VEVENT
DTSTART;TZID=America/New_York:20260325T190000
DTEND;TZID=America/New_York:20260325T200000
DTSTAMP:20260420T101554
CREATED:20260303T171342Z
LAST-MODIFIED:20260315T182906Z
UID:11662-1774465200-1774468800@envirodelco.org
SUMMARY:Webinar: What is Zero Waste? Why Is It a Critical Climate Strategy?
DESCRIPTION:The LWVCDC Jeanette Ross Environment Lecture for 2026 is titled; What is Zero Waste and Why Is It a Critical Climate Strategy? It will be held Wednesday\, March 25\, 7 PM\, via Zoom. The presenter is Alex Danovitch principal consultant at Nothing Left to Waste and Director of Strategy and Business Development for Recycle Ann Arbor. \nPresenter Alex Danovitch will help us understand zero waste and tell us what we can do as individuals and communities to get there. He brings a unique perspective to his work derived from over 25 years of experience in zero waste and social enterprise development\, with a strong operational\, policy and entrepreneurial background. \n \nHe is on the board of the Alliance for Mission Based Recycling\, is a certified TRUE zero waste advisor with the US Green Building Council and was a co-founder of Eureka Recycling\, the largest nonprofit recycler in the US. \nThe presentation is FREE but to receive the link to the Zoom Virtual Presentation via email you MUST Register. \nTo register and submit questions CLICK HERE
URL:https://envirodelco.org/event/webinar-what-is-zero-waste-why-is-it-a-critical-climate-strategy/
LOCATION:Virtual Meeting
CATEGORIES:Educational,In Person,Presentation
ATTACH;FMTTYPE=image/jpeg:https://envirodelco.org/wp-content/uploads/2024/04/LWV-Environmental-Logo-with-text-e1712238122643.jpg
ORGANIZER;CN="LWV-Central  Delaware County":MAILTO:lwvcdc@gmail.com
END:VEVENT
BEGIN:VEVENT
DTSTART;TZID=America/New_York:20260326T130000
DTEND;TZID=America/New_York:20260326T140000
DTSTAMP:20260420T101554
CREATED:20260324T203002Z
LAST-MODIFIED:20260324T203002Z
UID:11839-1774530000-1774533600@envirodelco.org
SUMMARY:The Economics of Data Center & Fossil Fuel Tax Incentives: Who Really Benefits?
DESCRIPTION:Nathan Jensen is a Professor in the Department of Government at the University of Texas at Austin. His research focuses on economic development policy\, tax incentives and business-government relations. He is the co-author of Incentives to Pander\, which examines why governments often overuse subsidies and tax incentives when competing for corporate investment. \nIn this webinar\, Nathan will break down the economics and politics behind data center tax incentives\, explain why local governments frequently offer such large subsidies\, and explore whether communities actually see the promised economic benefits. Drawing on research and real-world examples – including recent data center deals – he will help you understand how incentive packages work\, why transparency matters\, and what you can do to demand accountability. \n→ Register here in HHN​
URL:https://envirodelco.org/event/the-economics-of-data-center-fossil-fuel-tax-incentives-who-really-benefits/
LOCATION:Virtual Meeting
CATEGORIES:Educational,Presentation,Virtually
END:VEVENT
BEGIN:VEVENT
DTSTART;TZID=America/New_York:20260331T190000
DTEND;TZID=America/New_York:20260331T200000
DTSTAMP:20260420T101554
CREATED:20260226T160709Z
LAST-MODIFIED:20260226T160817Z
UID:11607-1774983600-1774987200@envirodelco.org
SUMMARY:DEP Air Quality Monitoring Virtual Presentation
DESCRIPTION:The Pennsylvania Department of Environmental Protection (DEP) and community partners are doing a study on how I-95 and other industries in Southern Delaware County are impacting air quality. \nWe want to share regular updates about what we’ve learned so far. This will be a presentation of the data from our latest quarterly report (covering October – December 2025) with a Q+A opportunity. \nRegister \n 
URL:https://envirodelco.org/event/dep-air-quality-monitoring-virtual-presentation/
LOCATION:Virtual Meeting
CATEGORIES:Presentation,Virtually
END:VEVENT
END:VCALENDAR