BEGIN:VCALENDAR
VERSION:2.0
PRODID:-//LWV DelCo Environmental Clearinghouse - ECPv6.15.20//NONSGML v1.0//EN
CALSCALE:GREGORIAN
METHOD:PUBLISH
X-WR-CALNAME:LWV DelCo Environmental Clearinghouse
X-ORIGINAL-URL:https://envirodelco.org
X-WR-CALDESC:Events for LWV DelCo Environmental Clearinghouse
REFRESH-INTERVAL;VALUE=DURATION:PT1H
X-Robots-Tag:noindex
X-PUBLISHED-TTL:PT1H
BEGIN:VTIMEZONE
TZID:America/New_York
BEGIN:DAYLIGHT
TZOFFSETFROM:-0500
TZOFFSETTO:-0400
TZNAME:EDT
DTSTART:20250309T070000
END:DAYLIGHT
BEGIN:STANDARD
TZOFFSETFROM:-0400
TZOFFSETTO:-0500
TZNAME:EST
DTSTART:20251102T060000
END:STANDARD
BEGIN:DAYLIGHT
TZOFFSETFROM:-0500
TZOFFSETTO:-0400
TZNAME:EDT
DTSTART:20260308T070000
END:DAYLIGHT
BEGIN:STANDARD
TZOFFSETFROM:-0400
TZOFFSETTO:-0500
TZNAME:EST
DTSTART:20261101T060000
END:STANDARD
BEGIN:DAYLIGHT
TZOFFSETFROM:-0500
TZOFFSETTO:-0400
TZNAME:EDT
DTSTART:20270314T070000
END:DAYLIGHT
BEGIN:STANDARD
TZOFFSETFROM:-0400
TZOFFSETTO:-0500
TZNAME:EST
DTSTART:20271107T060000
END:STANDARD
END:VTIMEZONE
BEGIN:VEVENT
DTSTART;TZID=America/New_York:20260422T133000
DTEND;TZID=America/New_York:20260422T150000
DTSTAMP:20260422T172728
CREATED:20260420T161846Z
LAST-MODIFIED:20260420T161846Z
UID:12116-1776864600-1776870000@envirodelco.org
SUMMARY:Crozer Creek Trail Ribbon Cutting
DESCRIPTION:The opening of a new public trail!
URL:https://envirodelco.org/event/crozer-creek-trail-ribbon-cutting/
LOCATION:Crozer Park\, 1400 block of Kirlin & Finland\, Chester\, PA\, United States
CATEGORIES:Community Activity,Family,In Person,Nature Walks
ATTACH;FMTTYPE=image/png:https://envirodelco.org/wp-content/uploads/2026/04/04.22.26-Crozer-Creek-Trail-Ribbon-Cutting.png
ORGANIZER;CN="City of Chester":MAILTO:publicaffairs@chestercity.com
END:VEVENT
BEGIN:VEVENT
DTSTART;TZID=America/New_York:20260422T160000
DTEND;TZID=America/New_York:20260422T183000
DTSTAMP:20260422T172728
CREATED:20260420T155743Z
LAST-MODIFIED:20260420T155809Z
UID:12112-1776873600-1776882600@envirodelco.org
SUMMARY:Wayne Elementary School Earth Day (Radnor Twp)
DESCRIPTION:Please mark your calendars for our WES Earth Day celebration on Wednesday\, April 22nd. The fun will kick off after school\, get ready for an action-packed afternoon outside (indoor contingency)\, featuring: \n\n  Hands-on gardening and planting activities\n  Fun outdoor competitions\, races\, and a bike rodeo\n  The “WES 2.0” sustainable art showcase\n  Music\, healthy snacks\, and local vendors\n“Bike/Walk/Move to WES Day.” Delco MTB will be there checking bikes and helping direct traffic at a bike rodeo.
URL:https://envirodelco.org/event/wayne-elementary-school-earth-day-radnor-twp/
LOCATION:Wayne Elementary School\, 651 West Wayne Avenue\, Wayne\, PA\, 19087\, United States
CATEGORIES:Family,In Person
END:VEVENT
END:VCALENDAR