BEGIN:VCALENDAR
VERSION:2.0
PRODID:-//LWV DelCo Environmental Clearinghouse - ECPv6.15.20//NONSGML v1.0//EN
CALSCALE:GREGORIAN
METHOD:PUBLISH
X-WR-CALNAME:LWV DelCo Environmental Clearinghouse
X-ORIGINAL-URL:https://envirodelco.org
X-WR-CALDESC:Events for LWV DelCo Environmental Clearinghouse
REFRESH-INTERVAL;VALUE=DURATION:PT1H
X-Robots-Tag:noindex
X-PUBLISHED-TTL:PT1H
BEGIN:VTIMEZONE
TZID:America/New_York
BEGIN:DAYLIGHT
TZOFFSETFROM:-0500
TZOFFSETTO:-0400
TZNAME:EDT
DTSTART:20250309T070000
END:DAYLIGHT
BEGIN:STANDARD
TZOFFSETFROM:-0400
TZOFFSETTO:-0500
TZNAME:EST
DTSTART:20251102T060000
END:STANDARD
BEGIN:DAYLIGHT
TZOFFSETFROM:-0500
TZOFFSETTO:-0400
TZNAME:EDT
DTSTART:20260308T070000
END:DAYLIGHT
BEGIN:STANDARD
TZOFFSETFROM:-0400
TZOFFSETTO:-0500
TZNAME:EST
DTSTART:20261101T060000
END:STANDARD
BEGIN:DAYLIGHT
TZOFFSETFROM:-0500
TZOFFSETTO:-0400
TZNAME:EDT
DTSTART:20270314T070000
END:DAYLIGHT
BEGIN:STANDARD
TZOFFSETFROM:-0400
TZOFFSETTO:-0500
TZNAME:EST
DTSTART:20271107T060000
END:STANDARD
END:VTIMEZONE
BEGIN:VEVENT
DTSTART;TZID=America/New_York:20260422T133000
DTEND;TZID=America/New_York:20260422T150000
DTSTAMP:20260422T171818
CREATED:20260420T161846Z
LAST-MODIFIED:20260420T161846Z
UID:12116-1776864600-1776870000@envirodelco.org
SUMMARY:Crozer Creek Trail Ribbon Cutting
DESCRIPTION:The opening of a new public trail!
URL:https://envirodelco.org/event/crozer-creek-trail-ribbon-cutting/
LOCATION:Crozer Park\, 1400 block of Kirlin & Finland\, Chester\, PA\, United States
CATEGORIES:Community Activity,Family,In Person,Nature Walks
ATTACH;FMTTYPE=image/png:https://envirodelco.org/wp-content/uploads/2026/04/04.22.26-Crozer-Creek-Trail-Ribbon-Cutting.png
ORGANIZER;CN="City of Chester":MAILTO:publicaffairs@chestercity.com
END:VEVENT
BEGIN:VEVENT
DTSTART;TZID=America/New_York:20260422T160000
DTEND;TZID=America/New_York:20260422T183000
DTSTAMP:20260422T171818
CREATED:20260420T155743Z
LAST-MODIFIED:20260420T155809Z
UID:12112-1776873600-1776882600@envirodelco.org
SUMMARY:Wayne Elementary School Earth Day (Radnor Twp)
DESCRIPTION:Please mark your calendars for our WES Earth Day celebration on Wednesday\, April 22nd. The fun will kick off after school\, get ready for an action-packed afternoon outside (indoor contingency)\, featuring: \n\n  Hands-on gardening and planting activities\n  Fun outdoor competitions\, races\, and a bike rodeo\n  The “WES 2.0” sustainable art showcase\n  Music\, healthy snacks\, and local vendors\n“Bike/Walk/Move to WES Day.” Delco MTB will be there checking bikes and helping direct traffic at a bike rodeo.
URL:https://envirodelco.org/event/wayne-elementary-school-earth-day-radnor-twp/
LOCATION:Wayne Elementary School\, 651 West Wayne Avenue\, Wayne\, PA\, 19087\, United States
CATEGORIES:Family,In Person
END:VEVENT
BEGIN:VEVENT
DTSTART;TZID=America/New_York:20260424T140000
DTEND;TZID=America/New_York:20260424T150000
DTSTAMP:20260422T171818
CREATED:20260413T192936Z
LAST-MODIFIED:20260413T192936Z
UID:12037-1777039200-1777042800@envirodelco.org
SUMMARY:Naylor's Run Trail Section 5A Ribbon-Cutting Ceremony
DESCRIPTION:Naylor’s Run Trail Section 5A Ribbon-Cutting Ceremony\n\n\nWhen: Friday\, April 24\, 2026\, 2PM\n\n\nWhere: 1500 Garrett Road\, Upper Darby\, Pa 19082\n\n\nUpper Darby Township is proud to cut the ribbon on a new quarter-mile trail that will connect Garrett and Marshall Road’s in Upper Darby Township.\n\n\nLocated at 1500 Garrett Road across the street from Naylor’s Run Park in the Beverly Hills Recreation Area. This new Trail section will provide a safe connection between Garrett and Marshall Road. One that is fully accessible for all residents. That includes children\, seniors\, and people with disabilities.\n\n\nIt will also allow people to experience nature\, fresh air\, and another opportunity to get outside and live a healthy lifestyle.\n\n\nAmong the attendees will be Mayor Ed Brown\, Congresswoman Mary Gay Scanlon\, Pennsylvania Senator Tim Kearney\, Pa State Representatives Gina Curry and Heather Boyd.\n\n\n—-
URL:https://envirodelco.org/event/naylors-run-trail-section-5a-ribbon-cutting-ceremony/
LOCATION:Naylor’s Run Trail Section 5A\, 1500 Garrett Road\, Upper Darby\, PA\, 19082\, United States
CATEGORIES:Community Activity,Family,In Person,Nature Walks
ATTACH;FMTTYPE=image/jpeg:https://envirodelco.org/wp-content/uploads/2026/04/Naylors-Run-April-2026.jpg
ORGANIZER;CN="Upper Darby Township":MAILTO:one@upperdarby.org
END:VEVENT
BEGIN:VEVENT
DTSTART;TZID=America/New_York:20260425T080000
DTEND;TZID=America/New_York:20260425T093000
DTSTAMP:20260422T171818
CREATED:20260220T161926Z
LAST-MODIFIED:20260220T173432Z
UID:11505-1777104000-1777109400@envirodelco.org
SUMMARY:Newlin Grist Mill and Wild Birds Unlimited Bird Walk
DESCRIPTION:Newlin Grist Mill and Wild Birds Unlimited (Glen Mills) have teamed up to explore the wonderful world of bird life! Join us for monthly naturalist-led walks through the 160-acre park at Newlin Grist Mill. We will meet year-round residents\, visit exciting migrants\, and learn the basics of bird identification and biology. \nFamilies and beginners are welcome for these free bird walks! A limited number of binoculars are available for use\, but participants are encouraged to bring their own if they have them. Participants should meet by the Log Cabin. \n2026 Bird Walks: \n\nApril 25 (8am)\nMay 30 (8am)\nJune 27 (8am)\nJuly 25 (8am)\nAugust 29 (8am)\nSeptember 26 (8am)\nOctober 31 (8am)\nNovember 28 (9am)\nDecember 19 – Christmas Bird Count (9am)\n\nFamilies and beginners are welcome for these free bird walks! A limited number of binoculars are available for use\, but participants are encouraged to bring their own if they have them. Participants should meet by the Log Cabin.
URL:https://envirodelco.org/event/newlin-grist-mill-and-wild-birds-unlimited-glen-mills-copy-2-copy/
LOCATION:Newlin Grist Mill\, 219 South Cheyney Road\, Glen Mills\, PA\, 19342\, United States
CATEGORIES:Community Activity,Family,In Person,Nature Walks
ATTACH;FMTTYPE=image/jpeg:https://envirodelco.org/wp-content/uploads/2026/02/Newlin-Bird-Walks.jpg
ORGANIZER;CN="Newlin Grist Mill":MAILTO:info@newlingristmill.org
END:VEVENT
BEGIN:VEVENT
DTSTART;TZID=America/New_York:20260425T090000
DTEND;TZID=America/New_York:20260425T120000
DTSTAMP:20260422T171818
CREATED:20260420T163208Z
LAST-MODIFIED:20260420T182344Z
UID:12120-1777107600-1777118400@envirodelco.org
SUMMARY:2026 Clean Up - Rolling Green Park - Springfield Township
DESCRIPTION:2026 Clean Up – Rolling Green Park – Springfield Township Saturday\, 04/25/2026 09:00 AM– 12:00 PM EST \nHelp get Darby Creek ready for the joy of spring and summer! DCVA supplies:  guidance and support along with supplies such as trash pickers\, gloves\, bags\, and t-shirts. \n\nEvent Location:  Rolling Green Park. W Rolling Road Springfield PA 19064\n\nContact’s Name:  Kim Rossiter\nContact’s Email:  tkrossiter@gmail.com
URL:https://envirodelco.org/event/2026-clean-up-rolling-green-park-springfield-township/
LOCATION:Rolling Green Park\, W Rolling Road\, Springfield\, 19064\, United States
CATEGORIES:Community Activity,Family,In Person,Park Cleanup
ORGANIZER;CN="Darby Creek Valley Association":MAILTO:president@dcva.org
END:VEVENT
END:VCALENDAR