BEGIN:VCALENDAR
VERSION:2.0
PRODID:-//LWV DelCo Environmental Clearinghouse - ECPv6.15.20//NONSGML v1.0//EN
CALSCALE:GREGORIAN
METHOD:PUBLISH
X-ORIGINAL-URL:https://envirodelco.org
X-WR-CALDESC:Events for LWV DelCo Environmental Clearinghouse
REFRESH-INTERVAL;VALUE=DURATION:PT1H
X-Robots-Tag:noindex
X-PUBLISHED-TTL:PT1H
BEGIN:VTIMEZONE
TZID:America/New_York
BEGIN:DAYLIGHT
TZOFFSETFROM:-0500
TZOFFSETTO:-0400
TZNAME:EDT
DTSTART:20250309T070000
END:DAYLIGHT
BEGIN:STANDARD
TZOFFSETFROM:-0400
TZOFFSETTO:-0500
TZNAME:EST
DTSTART:20251102T060000
END:STANDARD
BEGIN:DAYLIGHT
TZOFFSETFROM:-0500
TZOFFSETTO:-0400
TZNAME:EDT
DTSTART:20260308T070000
END:DAYLIGHT
BEGIN:STANDARD
TZOFFSETFROM:-0400
TZOFFSETTO:-0500
TZNAME:EST
DTSTART:20261101T060000
END:STANDARD
BEGIN:DAYLIGHT
TZOFFSETFROM:-0500
TZOFFSETTO:-0400
TZNAME:EDT
DTSTART:20270314T070000
END:DAYLIGHT
BEGIN:STANDARD
TZOFFSETFROM:-0400
TZOFFSETTO:-0500
TZNAME:EST
DTSTART:20271107T060000
END:STANDARD
END:VTIMEZONE
BEGIN:VEVENT
DTSTART;TZID=America/New_York:20260307T110000
DTEND;TZID=America/New_York:20260307T130000
DTSTAMP:20260422T183007
CREATED:20260303T165116Z
LAST-MODIFIED:20260303T165116Z
UID:11656-1772881200-1772888400@envirodelco.org
SUMMARY:Winter Sowing Workshop
DESCRIPTION:Class size is limited; Free registration; Please register below \nInterested in growing native and other pollinator-friendly perennials from seed? \nNative plant species are specifically adapted to local pollinators\, providing superior nutrition compared to non-native ornamental plants and offering a vital habitat for local wildlife. Planting in groups (pollinator patches) rather than single plants increases visibility and allows pollinators to utilize resources more efficiently. To support a diverse range of species\, it is important to ensure a mix of plants that bloom from early spring through late fall. How could you obtain that many plants? The answer is winter sowing! \nWinter sowing is an easy\, inexpensive\, and eco-friendly method to grow these plants efficiently. Seeds are sown in milk jugs during winter and left outdoors to germinate\, allowing them to adapt naturally to the local climate. Please see the flyer for more details on this workshop led by EAC member Anjana Vidyadharan who will share her experiences as a local gardener. Gay Lacy\, RML staff member and backyard gardener\, reminds us that growing seeds is not difficult when basic growing information is provided. Anjana and Gay look forward to teaching residents that eating homegrown\, wholesome food is beneficial for a healthy community! \nPlease bring a cleaned milk jug and seeds of your choice to learn how to grow hardy perennials from seed and successfully establish them in your garden. \n\n\nRegistration is required. There are 17 seats available.
URL:https://envirodelco.org/event/winter-sowing-workshop/
LOCATION:Radnor Memorial Library\, 114 West Wayne Avenue\, Wayne\, PA\, 19087\, United States
CATEGORIES:Community Activity,Educational,Family,In Person
ATTACH;FMTTYPE=image/jpeg:https://envirodelco.org/wp-content/uploads/2026/03/Winter-Sowing-26-03-07.jpg
ORGANIZER;CN="Radnor Township Environmental Advisory Council":MAILTO:eac@radnor.org
END:VEVENT
BEGIN:VEVENT
DTSTART;TZID=America/New_York:20260314T090000
DTEND;TZID=America/New_York:20260314T113000
DTSTAMP:20260422T183007
CREATED:20260312T151505Z
LAST-MODIFIED:20260312T151505Z
UID:11754-1773478800-1773487800@envirodelco.org
SUMMARY:Bird Walk with Debbie Beer
DESCRIPTION:Take an educational walk with one of our knowledgeable volunteers! Discover the 300+ species of birds that use the Refuge during their migration routes – each week guarantee different species! Walk will meet by visitor center and be at a relaxed paced on flat surfaces. There are restrooms near the trailhead. No registration required.
URL:https://envirodelco.org/event/bird-walk-with-debbie-beer-2/
LOCATION:John Heinz National Wildlike Refuge at Tinicum\, 8601 Lindbergh Boulevard\, Philadelphia\, PA\, 19153-2501\, United States
CATEGORIES:Community Activity,Educational,Family,In Person,Nature Walks
ATTACH;FMTTYPE=image/png:https://envirodelco.org/wp-content/uploads/2025/07/JohnHeinzWildlifeRefuge-banner.png
ORGANIZER;CN="John Heinz National Wildlife Refuge at Tinicum":MAILTO:hannah_thompkins@fws.gov
END:VEVENT
BEGIN:VEVENT
DTSTART;TZID=America/New_York:20260314T100000
DTEND;TZID=America/New_York:20260314T110000
DTSTAMP:20260422T183007
CREATED:20260312T151911Z
LAST-MODIFIED:20260312T151911Z
UID:11756-1773482400-1773486000@envirodelco.org
SUMMARY:Nature Tots - for ages 3 - 5
DESCRIPTION:Children ages 3-5 and an adult are invited to explore nature with a refuge ranger! Participants will enjoy story-times\, crafts\, hikes\, and more! Registration is required.\nPlease pre-register by sending an email to hannah_thompkins@fws.gov with how many tots and adults are expected to attend. Like all refuge activities\, this event is FREE!
URL:https://envirodelco.org/event/nature-tots-for-ages-3-5/
LOCATION:John Heinz National Wildlike Refuge at Tinicum\, 8601 Lindbergh Boulevard\, Philadelphia\, PA\, 19153-2501\, United States
CATEGORIES:Community Activity,Family,In Person
ATTACH;FMTTYPE=image/jpeg:https://envirodelco.org/wp-content/uploads/2025/08/john-heinz-entrance-sign.jpg
ORGANIZER;CN="John Heinz National Wildlife Refuge at Tinicum":MAILTO:hannah_thompkins@fws.gov
END:VEVENT
BEGIN:VEVENT
DTSTART;TZID=America/New_York:20260314T120000
DTEND;TZID=America/New_York:20260314T150000
DTSTAMP:20260422T183007
CREATED:20260311T225034Z
LAST-MODIFIED:20260311T225034Z
UID:11747-1773489600-1773500400@envirodelco.org
SUMMARY:Let Us Breathe
DESCRIPTION:This event focuses on our pulmonary health and ways that we can keep our air clean in this environment. Hear from local healthcare professionals about what you can do to protect your family. We will have lunch\, fun activities\, and crafts for kids. This event is all about community health and wellness!
URL:https://envirodelco.org/event/let-us-breathe/
LOCATION:Access Community Center\, 701 Booth Street\, Chester\, PA\, 19013\, United States
CATEGORIES:Community Activity,Family,In Person
ATTACH;FMTTYPE=image/png:https://envirodelco.org/wp-content/uploads/2026/03/Let-Us-Breathe-3-14-2026.png
ORGANIZER;CN="CRCQL":MAILTO:getinvolved@chesterpaej.org
END:VEVENT
BEGIN:VEVENT
DTSTART;TZID=America/New_York:20260321T110000
DTEND;TZID=America/New_York:20260321T150000
DTSTAMP:20260422T183007
CREATED:20260226T155344Z
LAST-MODIFIED:20260226T155555Z
UID:11596-1774090800-1774105200@envirodelco.org
SUMMARY:Spring Festival Air Quality Monitoring Project
DESCRIPTION:FREE FOOD! * KIDS GAMES! * MUSIC! \nUpdate on local air quality! \nAbout This Project The Pennsylvania Department of Environmental Protection (DEP) and community partners are doing\na study on how I-95 and other industries in Southeast Delaware County are impacting air quality. We want to share regular updates about what we’ve learned so far at fun\, community-centered events\, so come\, learn\, ask questions\, and connect with your neighbors!
URL:https://envirodelco.org/event/spring-festival-air-quality-monitoring-project/
LOCATION:Redwood Community Center\, 280 Sixth Street\, Brookhaven\, PA\, 19015\, United States
CATEGORIES:Community Activity,Family,In Person
ATTACH;FMTTYPE=image/png:https://envirodelco.org/wp-content/uploads/2026/02/Air-Quality-Monitoring-Events-March-2026.png
END:VEVENT
BEGIN:VEVENT
DTSTART;TZID=America/New_York:20260328T090000
DTEND;TZID=America/New_York:20260328T103000
DTSTAMP:20260422T183007
CREATED:20260220T160428Z
LAST-MODIFIED:20260220T172048Z
UID:11492-1774688400-1774693800@envirodelco.org
SUMMARY:Newlin Grist Mill and Wild Birds Unlimited Bird Walk
DESCRIPTION:Newlin Grist Mill and Wild Birds Unlimited (Glen Mills) have teamed up to explore the wonderful world of bird life! Join us for monthly naturalist-led walks through the 160-acre park at Newlin Grist Mill. We will meet year-round residents\, visit exciting migrants\, and learn the basics of bird identification and biology. \nFamilies and beginners are welcome for these free bird walks! A limited number of binoculars are available for use\, but participants are encouraged to bring their own if they have them. Participants should meet by the Log Cabin. \n2026 Bird Walks: \n\nMarch 28 (9am)\nApril 25 (8am)\nMay 30 (8am)\nJune 27 (8am)\nJuly 25 (8am)\nAugust 29 (8am)\nSeptember 26 (8am)\nOctober 31 (8am)\nNovember 28 (9am)\nDecember 19 – Christmas Bird Count (9am)\n\nFamilies and beginners are welcome for these free bird walks! A limited number of binoculars are available for use\, but participants are encouraged to bring their own if they have them. Participants should meet by the Log Cabin.
URL:https://envirodelco.org/event/newlin-grist-mill-and-wild-birds-unlimited-glen-mills/
LOCATION:Newlin Grist Mill\, 219 South Cheyney Road\, Glen Mills\, PA\, 19342\, United States
CATEGORIES:Community Activity,Family,In Person,Nature Walks
ATTACH;FMTTYPE=image/jpeg:https://envirodelco.org/wp-content/uploads/2026/02/Newlin-Bird-Walks.jpg
ORGANIZER;CN="Newlin Grist Mill":MAILTO:info@newlingristmill.org
END:VEVENT
BEGIN:VEVENT
DTSTART;TZID=America/New_York:20260328T110000
DTEND;TZID=America/New_York:20260328T150000
DTSTAMP:20260422T183007
CREATED:20260226T160209Z
LAST-MODIFIED:20260226T160209Z
UID:11604-1774695600-1774710000@envirodelco.org
SUMMARY:Spring Festival Air Quality Monitoring Project
DESCRIPTION:FREE FOOD! * KIDS GAMES! * MUSIC! \nUpdate on local air quality! \nAbout This Project The Pennsylvania Department of Environmental Protection (DEP) and community partners are doing\na study on how I-95 and other industries in Southeast Delaware County are impacting air quality. We want to share regular updates about what we’ve learned so far at fun\, community-centered events\, so come\, learn\, ask questions\, and connect with your neighbors!
URL:https://envirodelco.org/event/spring-festival-air-quality-monitoring-project-copy/
LOCATION:CAAT Center HQ\, 2300 West 4th\, A211\, Chester\, 19013\, United States
CATEGORIES:Community Activity,Family,In Person
ATTACH;FMTTYPE=image/png:https://envirodelco.org/wp-content/uploads/2026/02/Air-Quality-Monitoring-Events-March-2026.png
END:VEVENT
END:VCALENDAR