BEGIN:VCALENDAR
VERSION:2.0
PRODID:-//LWV DelCo Environmental Clearinghouse - ECPv6.15.20//NONSGML v1.0//EN
CALSCALE:GREGORIAN
METHOD:PUBLISH
X-WR-CALNAME:LWV DelCo Environmental Clearinghouse
X-ORIGINAL-URL:https://envirodelco.org
X-WR-CALDESC:Events for LWV DelCo Environmental Clearinghouse
REFRESH-INTERVAL;VALUE=DURATION:PT1H
X-Robots-Tag:noindex
X-PUBLISHED-TTL:PT1H
BEGIN:VTIMEZONE
TZID:America/New_York
BEGIN:DAYLIGHT
TZOFFSETFROM:-0500
TZOFFSETTO:-0400
TZNAME:EDT
DTSTART:20250309T070000
END:DAYLIGHT
BEGIN:STANDARD
TZOFFSETFROM:-0400
TZOFFSETTO:-0500
TZNAME:EST
DTSTART:20251102T060000
END:STANDARD
BEGIN:DAYLIGHT
TZOFFSETFROM:-0500
TZOFFSETTO:-0400
TZNAME:EDT
DTSTART:20260308T070000
END:DAYLIGHT
BEGIN:STANDARD
TZOFFSETFROM:-0400
TZOFFSETTO:-0500
TZNAME:EST
DTSTART:20261101T060000
END:STANDARD
BEGIN:DAYLIGHT
TZOFFSETFROM:-0500
TZOFFSETTO:-0400
TZNAME:EDT
DTSTART:20270314T070000
END:DAYLIGHT
BEGIN:STANDARD
TZOFFSETFROM:-0400
TZOFFSETTO:-0500
TZNAME:EST
DTSTART:20271107T060000
END:STANDARD
END:VTIMEZONE
BEGIN:VEVENT
DTSTART;TZID=America/New_York:20260415T150000
DTEND;TZID=America/New_York:20260415T160000
DTSTAMP:20260419T192729
CREATED:20260107T220930Z
LAST-MODIFIED:20260107T220930Z
UID:11174-1776265200-1776268800@envirodelco.org
SUMMARY:DCSWA - Legislative Meeting (Board Voting)
DESCRIPTION:Legislative Meetings (Board Voting)\n\n3 pm (see calendar for exceptions)\n3rd Wednesday of every month (check calendar to confirm in case of cancellations)\n610 E Baltimore Pike\nMedia\, PA 19063\nParticipants may also access these LEGISLATIVE meetings virtually.\nBE CAREFUL TO SELECT THE CORRECT MEETING DATE AND SESSION FROM THE ZOOM REGISTRATION PAGE. THIS LINK IS FOR LEGISLASTIVE SESSIONS. FOR GENERAL SESSIONS\, USE THE LINK ABOVE.\n\n\nView Most Recent Agendas and Minutes
URL:https://envirodelco.org/event/dcswa-legislative-meeting-board-voting-copy-copy-copy/
LOCATION:DCSWA\, 601 E. Baltimore Ave\, Media\, PA\, 19063\, United States
CATEGORIES:Board Meetings,In Person,Virtually
ATTACH;FMTTYPE=image/png:https://envirodelco.org/wp-content/uploads/2026/01/DCSWA-Logo.png
END:VEVENT
BEGIN:VEVENT
DTSTART;TZID=America/New_York:20260408T150000
DTEND;TZID=America/New_York:20260408T160000
DTSTAMP:20260419T192729
CREATED:20260106T213105Z
LAST-MODIFIED:20260106T213105Z
UID:11136-1775660400-1775664000@envirodelco.org
SUMMARY:DCSWA Board of Directors General Meeting
DESCRIPTION:General Meetings (Informational Meetings – no Board Voting)\nNOTE:  Attend in person or virtually \n\n3 pm (see calendar for exceptions)\n2nd Wednesday of every month (check calendar to confirm in case of cancellations)\n610 E Baltimore Pike\nMedia\, PA 19063\nParticipants may also access these GENERAL meetings virtually.\nBE CAREFUL TO SELECT THE CORRECT MEETING DATE AND SESSION FROM THE ZOOM REGISTRATION PAGE. THIS LINK IS FOR GENERAL SESSIONS. FOR LEGISLATIVE SESSIONS\, USE THE LINK BELOW.
URL:https://envirodelco.org/event/dcswa-board-of-directors-general-meeting-copy-copy-copy/
LOCATION:DCSWA\, 601 E. Baltimore Ave\, Media\, PA\, 19063\, United States
CATEGORIES:Board Meetings,In Person,Virtually
ATTACH;FMTTYPE=image/png:https://envirodelco.org/wp-content/uploads/2026/01/DCSWA-Logo.png
END:VEVENT
BEGIN:VEVENT
DTSTART;TZID=America/New_York:20260319T100000
DTEND;TZID=America/New_York:20260319T120000
DTSTAMP:20260419T192729
CREATED:20260316T211522Z
LAST-MODIFIED:20260316T211522Z
UID:11778-1773914400-1773921600@envirodelco.org
SUMMARY:DVRPC Board Meeting
DESCRIPTION:The next DVRPC Board meeting is on Thursday\, March 19\, 2026\, at 10:00 am. It is being held online via remote webinar. The public can register to attend online. \nThe public can comment on DVRPC Board action items using an online commenting application. The meeting agenda can be viewed online. \nInformation related to Board action items is posted approximately 10 days before a scheduled Board meeting. The online commenting feature will be live until 12 noon the day before the Board meeting. The public may also submit comments: \n\n\n\n\n\n\n\n\n\n\n\nby U.S. Mail (c/o Operations\, Communications\, and Engagement\, DVRPC\, 190 N. Independence Mall West\, 8th Floor\, Philadelphia\, PA 19106);\nby phone (Director of Operations\, Communications\, and Engagement at 215-238-2929);\nor via email at public_affairs@dvrpc.org.\n\n\n\n\n\n\n\n\n\n\n\nAll comments must be received by 12 noon on Wednesday\, March 18\, 2026\, to be included in the comments packet. Members of the public may also attend and comment at the Board meeting. For more information\, please contact the Division of Operations\, Communications\, and Engagement at 215-592-1800 or public_affairs@dvrpc.org. DVRPC staff will follow up on any questions or comments\, and all comments submitted during this time period will be forwarded to DVRPC Board members.
URL:https://envirodelco.org/event/dvrpc-board-meeting/
LOCATION:Virtual Meeting
CATEGORIES:Board Meetings,Virtually
ATTACH;FMTTYPE=image/png:https://envirodelco.org/wp-content/uploads/2026/02/dvrpc-logo.png
ORGANIZER;CN="DVRPC-Delaware Valley River Planning Commisssion":MAILTO:public_affairs@dvrpc.org
END:VEVENT
BEGIN:VEVENT
DTSTART;TZID=America/New_York:20260318T150000
DTEND;TZID=America/New_York:20260318T160000
DTSTAMP:20260419T192729
CREATED:20260107T220725Z
LAST-MODIFIED:20260107T220725Z
UID:11172-1773846000-1773849600@envirodelco.org
SUMMARY:DCSWA - Legislative Meeting (Board Voting)
DESCRIPTION:Legislative Meetings (Board Voting)\n\n3 pm (see calendar for exceptions)\n3rd Wednesday of every month (check calendar to confirm in case of cancellations)\n610 E Baltimore Pike\nMedia\, PA 19063\nParticipants may also access these LEGISLATIVE meetings virtually.\nBE CAREFUL TO SELECT THE CORRECT MEETING DATE AND SESSION FROM THE ZOOM REGISTRATION PAGE. THIS LINK IS FOR LEGISLASTIVE SESSIONS. FOR GENERAL SESSIONS\, USE THE LINK ABOVE.\n\n\nView Most Recent Agendas and Minutes
URL:https://envirodelco.org/event/dcswa-legislative-meeting-board-voting-copy-copy/
LOCATION:DCSWA\, 601 E. Baltimore Ave\, Media\, PA\, 19063\, United States
CATEGORIES:Board Meetings,In Person,Virtually
ATTACH;FMTTYPE=image/png:https://envirodelco.org/wp-content/uploads/2026/01/DCSWA-Logo.png
END:VEVENT
BEGIN:VEVENT
DTSTART;TZID=America/New_York:20260311T150000
DTEND;TZID=America/New_York:20260311T160000
DTSTAMP:20260419T192729
CREATED:20260106T212850Z
LAST-MODIFIED:20260106T212910Z
UID:11135-1773241200-1773244800@envirodelco.org
SUMMARY:DCSWA Board of Directors General Meeting
DESCRIPTION:General Meetings (Informational Meetings – no Board Voting)\nNOTE:  Attend in person or virtually \n\n3 pm (see calendar for exceptions)\n2nd Wednesday of every month (check calendar to confirm in case of cancellations)\n610 E Baltimore Pike\nMedia\, PA 19063\nParticipants may also access these GENERAL meetings virtually.\nBE CAREFUL TO SELECT THE CORRECT MEETING DATE AND SESSION FROM THE ZOOM REGISTRATION PAGE. THIS LINK IS FOR GENERAL SESSIONS. FOR LEGISLATIVE SESSIONS\, USE THE LINK BELOW.\nPlease click link to join.
URL:https://envirodelco.org/event/dcswa-board-of-directors-general-meeting-copy-copy/
LOCATION:DCSWA\, 601 E. Baltimore Ave\, Media\, PA\, 19063\, United States
CATEGORIES:Board Meetings,In Person,Virtually
ATTACH;FMTTYPE=image/png:https://envirodelco.org/wp-content/uploads/2026/01/DCSWA-Logo.png
END:VEVENT
BEGIN:VEVENT
DTSTART;TZID=America/New_York:20260304T180000
DTEND;TZID=America/New_York:20260304T190000
DTSTAMP:20260419T192729
CREATED:20260303T200138Z
LAST-MODIFIED:20260303T200138Z
UID:11666-1772647200-1772650800@envirodelco.org
SUMMARY:PPTF: Planning and Funding Transportation Infrastructure Across the Region
DESCRIPTION:Meeting will be held online via Zoom \nRegister to attend \nJoin DVRPC online on Wednesday\, March 4\, at 6:00 pm\, for our next Public Participation Task Force meeting. This session will help explain two key plans that guide transportation decision-making: Update: Connections 2050\, the region’s long-range plan\, and the Transportation Improvement Program (TIP)\, which identifies projects prioritized for near-term funding. Participants will learn how these plans influence transportation investments and how residents can submit public comments during their development and updates to help inform regional transportation decisions. \nDVRPC staff who work directly on long-range planning and project programming will be available to explain the process and answer questions.
URL:https://envirodelco.org/event/pptf-planning-and-funding-transportation-infrastructure-across-the-region/
LOCATION:Virtual Meeting
CATEGORIES:Board Meetings,Presentation,Virtually
ATTACH;FMTTYPE=image/png:https://envirodelco.org/wp-content/uploads/2026/03/dvrpc-logo.png
ORGANIZER;CN="DVRPC-Delaware Valley River Planning Commisssion":MAILTO:public_affairs@dvrpc.org
END:VEVENT
BEGIN:VEVENT
DTSTART;TZID=America/New_York:20260304T100000
DTEND;TZID=America/New_York:20260304T113000
DTSTAMP:20260419T192729
CREATED:20260116T161003Z
LAST-MODIFIED:20260303T163128Z
UID:11278-1772618400-1772623800@envirodelco.org
SUMMARY:Delaware River Basin Commission Business Meeting 1Q26
DESCRIPTION:Agenda for the March 4th business meeting is now available at http://www.nj.gov/drbc/meetings/upcoming/ \nPlease visit  http://www.nj.gov/drbc/meetings/upcoming/ to register for the business meeting and to view the business meeting agenda (NOTE: agenda updated 3/2/26). Folks interested in giving open public comment should note that when they register for the meeting. \nPublic hearing and business meeting dates and locations are subject to change. Please check the DRBC web site periodically to confirm a scheduled date and/or meeting location. \n\nHearings and business meetings are open to the public.\nLocation information will be available as it is finalized.\n\nAdditional DRBC Updates: \n\nThe DRBC currently has one (1) employment opportunity for an Associate Counsel. The position will remain open until filled. Please review the job description and details on how to apply at https://www.nj.gov/drbc/about/staff/employment-opportunities.html.\nDRBC is hiring three (3) summer interns in our Water Resources Planning Section. These *paid* internships will be from May to September 2026. We’re looking for someone to help with our Water Resources Resilience Plan\, another to work on database management and someone to work on water supply planning. The deadline to apply is March 27\, 2026. Get all the details at https://www.nj.gov/drbc/about/staff/internships.html.\nThe DRBC’s salt application survey closes March 3\, 2026. This anonymous survey\, geared for municipal staff\, contractors and decision-makers\, will help us better understand current salt application practices in the Delaware River Basin. If you know someone working in this space\, please feel free to share. The survey link is  https://docs.google.com/forms/d/e/1FAIpQLSeBj2H2xmds7R363xeNjctydS5jOvtUkvG9EJqiwH231Xcuow/viewform.\nThe DRBC is currently preparing its 2026 Delaware River and Bay Water Quality Assessment Report. Comments and input are currently being solicited from interested parties on the proposed assessment methodology. Folks are able to submit comments through our online system; the deadline is 5 p.m.\, March 31\, 2026. View the proposed methodology and get the details on how to submit your input at  https://www.nj.gov/drbc/public/publications/wq-assessment-rpts.html#wqa\nIn addition to the three internship opportunities mentioned below\, the DRBC is also hiring two interns to support our Water Quality Monitoring programs. One position is seasonal (May – September)\, and one is year-round.  These positions are open until filled. Get all the details at https://www.nj.gov/drbc/about/staff/internships.html.\nOn March 11\, DRBC is hosting the New Jersey Section of the American Water Resources Association’s (NJ-AWRA) Water Leadership Forum. This event will take place at our office in West Trenton\, N.J.\, from 12 p.m. to 2 p.m.\, and will feature a presentation on “Water on the West: Why the East Should Care” by Rutgers Professor Dr. Dan Van Abs. Learn more and register at  https://njawra.org/event-6540046.
URL:https://envirodelco.org/event/delaware-river-basin-commission-public-hearing-copy-copy-copy-copy/
LOCATION:Virtual Meeting
CATEGORIES:Board Meetings,Hearing,Presentation,Virtually
ATTACH;FMTTYPE=image/png:https://envirodelco.org/wp-content/uploads/2026/01/DRBC-Logo.png
ORGANIZER;CN="Delaware River Basin Commission (DRBC)":MAILTO:Kate.Schmidt@drbc.gov
END:VEVENT
BEGIN:VEVENT
DTSTART;TZID=America/New_York:20260226T100000
DTEND;TZID=America/New_York:20260226T113000
DTSTAMP:20260419T192729
CREATED:20260215T165730Z
LAST-MODIFIED:20260215T165730Z
UID:11464-1772100000-1772105400@envirodelco.org
SUMMARY:The DVRPC Board of Actions Meeting
DESCRIPTION:Agenda and Online Commenting Available for February 26\, 2026\, DVRPC Board Actions\nThe next DVRPC Board meeting is on Thursday\, February 26\, 2026\, at 10:00 am. It is being held online via remote webinar. The public can register to attend online and see agenda. \nThe public can comment on DVRPC Board action items using an online commenting application. The meeting agenda can be viewed online. \nInformation related to Board action items is posted approximately 10 days before a scheduled Board meeting. The online commenting feature will be live until 12 noon the day before the Board meeting. The public may also submit comments: \n\nby U.S. Mail (c/o Office of Communications and Engagement\, DVRPC\, 190 N. Independence Mall West\, 8th Floor\, Philadelphia\, PA 19106);\nby phone (Director of Operations\, Communications\, and Engagement at 215-238-2929);\nor via email at public_affairs@dvrpc.org.\n\nAll comments must be received by 12 noon on Wednesday\, February 25\, 2026\, to be included in the comments packet. Members of the public may also attend and comment at the Board meeting. For more information\, please contact the Office of Communications and Engagement at 215-592-1800 or public_affairs@dvrpc.org. DVRPC staff will follow up on any questions or comments\, and all comments submitted during this time period will be forwarded to DVRPC Board members.
URL:https://envirodelco.org/event/the-dvrpc-board-of-actions-meeting/
LOCATION:Virtual Meeting
CATEGORIES:Board Meetings,Virtually
ATTACH;FMTTYPE=image/png:https://envirodelco.org/wp-content/uploads/2026/02/dvrpc-logo.png
ORGANIZER;CN="DVRPC-Delaware Valley River Planning Commisssion":MAILTO:public_affairs@dvrpc.org
END:VEVENT
BEGIN:VEVENT
DTSTART;TZID=America/New_York:20260218T150000
DTEND;TZID=America/New_York:20260218T160000
DTSTAMP:20260419T192729
CREATED:20260107T220432Z
LAST-MODIFIED:20260107T220432Z
UID:11170-1771426800-1771430400@envirodelco.org
SUMMARY:DCSWA - Legislative Meeting (Board Voting) (Copy)
DESCRIPTION:Legislative Meetings (Board Voting)\n\n3 pm (see calendar for exceptions)\n3rd Wednesday of every month (check calendar to confirm in case of cancellations)\n610 E Baltimore Pike\nMedia\, PA 19063\nParticipants may also access these LEGISLATIVE meetings virtually.\nBE CAREFUL TO SELECT THE CORRECT MEETING DATE AND SESSION FROM THE ZOOM REGISTRATION PAGE. THIS LINK IS FOR LEGISLASTIVE SESSIONS. FOR GENERAL SESSIONS\, USE THE LINK ABOVE.\n\n\nView Most Recent Agendas and Minutes
URL:https://envirodelco.org/event/dcswa-legislative-meeting-board-voting-copy/
LOCATION:DCSWA\, 601 E. Baltimore Ave\, Media\, PA\, 19063\, United States
CATEGORIES:Board Meetings,In Person,Virtually
ATTACH;FMTTYPE=image/png:https://envirodelco.org/wp-content/uploads/2026/01/DCSWA-Logo.png
END:VEVENT
BEGIN:VEVENT
DTSTART;TZID=America/New_York:20260211T150000
DTEND;TZID=America/New_York:20260211T160000
DTSTAMP:20260419T192729
CREATED:20260106T212455Z
LAST-MODIFIED:20260106T212455Z
UID:11133-1770822000-1770825600@envirodelco.org
SUMMARY:DCSWA Board of Directors General Meeting
DESCRIPTION:General Meetings (Informational Meetings – no Board Voting)\nNOTE:  Attend in person or virtually \n  \n\n3 pm (see calendar for exceptions)\n2nd Wednesday of every month (check calendar to confirm in case of cancellations)\n610 E Baltimore Pike\nMedia\, PA 19063\nParticipants may also access these GENERAL meetings virtually.\nBE CAREFUL TO SELECT THE CORRECT MEETING DATE AND SESSION FROM THE ZOOM REGISTRATION PAGE. THIS LINK IS FOR GENERAL SESSIONS. FOR LEGISLATIVE SESSIONS\, USE THE LINK BELOW.
URL:https://envirodelco.org/event/dcswa-board-of-directors-general-meeting-copy/
LOCATION:DCSWA\, 601 E. Baltimore Ave\, Media\, PA\, 19063\, United States
CATEGORIES:Board Meetings,In Person,Virtually
ATTACH;FMTTYPE=image/png:https://envirodelco.org/wp-content/uploads/2026/01/DCSWA-Logo.png
END:VEVENT
BEGIN:VEVENT
DTSTART;TZID=America/New_York:20260204T133000
DTEND;TZID=America/New_York:20260204T150000
DTSTAMP:20260419T192729
CREATED:20260116T160237Z
LAST-MODIFIED:20260116T160237Z
UID:11269-1770211800-1770217200@envirodelco.org
SUMMARY:Delaware River Basin Commission Public Hearing
DESCRIPTION:Public hearing and business meeting dates and locations are subject to change. Please check the DRBC web site periodically to confirm a scheduled date and/or meeting location. \n\nHearings and business meetings are open to the public.\nLocation information will be available as it is finalized.
URL:https://envirodelco.org/event/delaware-river-basin-commission-public-hearing/
LOCATION:Virtual Meeting
CATEGORIES:Board Meetings,Hearing,Presentation,Virtually
ATTACH;FMTTYPE=image/png:https://envirodelco.org/wp-content/uploads/2026/01/DRBC-Logo.png
ORGANIZER;CN="Delaware River Basin Commission (DRBC)":MAILTO:Kate.Schmidt@drbc.gov
END:VEVENT
BEGIN:VEVENT
DTSTART;TZID=America/New_York:20260122T100000
DTEND;TZID=America/New_York:20260122T120000
DTSTAMP:20260419T192729
CREATED:20260112T223511Z
LAST-MODIFIED:20260112T223511Z
UID:11214-1769076000-1769083200@envirodelco.org
SUMMARY:The DVRPC Board- January 22\, 2026
DESCRIPTION:10:00 am\, January 22\, 2026 \nRegister Now \nONLINE ONLY. Call In Phone Number: 1-346-248-7799 Meeting ID: 848 8759 7319 Passcode: 84555182 \n1. CALL TO ORDER\, CHAIR’S COMMENTS\, ROLL CALL \n2. PUBLIC COMMENTS ON AGENDA AND NON-AGENDA ITEMS \n3. EXECUTIVE DIRECTOR’S REPORT \nACTION ITEMS \n4. December 3\, 2025\, Meeting Minutes \n5. Transportation Improvement Program (TIP) Actions \n\nNJ26-004: Route 168\, Merchant Street to Ferry Avenue\, Pavement (DB #10341)\, Camden County – Add Project Back into the TIP\nNJ26-005: ADA South\, Contract 4 (DB #15423)\, Camden County – Add Project Back into the TIP\nPA25-076: Benjamin Franklin Bridge Safety Improvements (MPMS #72597) and Ben Franklin Bridge Eastbound Operational Improvements (MPMS #105290)\, City of Philadelphia – Increase CON Phase (MPMS #72597) and Remove Project from the TIP (MPMS #105290)\nPA25-077: Bus Purchase Program (MPMS #90512)\, SEPTA – Add New Competitive Award\nPA25-078: Various SEPTA Programs (Various MPMS #’s)\, SEPTA – Increase Funding for Various SEPTA Projects \nPA25-079: Route 1 Improvements Frontage Corridor (Section RC3)\, Bucks County – Shift ROW Phase to LFY and Increase Funding\nPA25-080: SR30/SR10 to Business 30 Interchange Improvement\, Chester County – Shift FD and ROW Phases to LFY and Increase Funding\n\n6. Adoption of the DVRPC Fiscal Year 2027 Unified Planning Work Program and TIP Amendments \n7. Adoption of Updated Regional Roadway Safety Targets \nDISCUSSION ITEMS \n8. Federal Surface Transportation Reauthorization: Updates from the Association for Metropolitan Planning Organizations (AMPO) \n9. Other Business \n\nOne Minute Reports\nCommittee Reports\n\nRegional Technical Committee\n\n\nOld Business\nNew Business\n\n10. Adjournment
URL:https://envirodelco.org/event/the-dvrpc-board-january-22-2026/
LOCATION:DVRPC\, 190 N. Independence Mall West\, 8th Floor\, Philadelphia\, PA\, 19106\, United States
CATEGORIES:Board Meetings,Presentation,Virtually
ORGANIZER;CN="DVRPC-Delaware Valley River Planning Commisssion":MAILTO:public_affairs@dvrpc.org
END:VEVENT
BEGIN:VEVENT
DTSTART;TZID=America/New_York:20260121T150000
DTEND;TZID=America/New_York:20260121T160000
DTSTAMP:20260419T192729
CREATED:20260107T220237Z
LAST-MODIFIED:20260107T220237Z
UID:11168-1769007600-1769011200@envirodelco.org
SUMMARY:DCSWA - Legislative Meeting (Board Voting)
DESCRIPTION:Legislative Meetings (Board Voting)\n\n3 pm (see calendar for exceptions)\n3rd Wednesday of every month (check calendar to confirm in case of cancellations)\n610 E Baltimore Pike\nMedia\, PA 19063\nParticipants may also access these LEGISLATIVE meetings virtually.\nBE CAREFUL TO SELECT THE CORRECT MEETING DATE AND SESSION FROM THE ZOOM REGISTRATION PAGE. THIS LINK IS FOR LEGISLASTIVE SESSIONS. FOR GENERAL SESSIONS\, USE THE LINK ABOVE.\n\n\nView Most Recent Agendas and Minutes
URL:https://envirodelco.org/event/dcswa-legislative-meeting-board-voting/
LOCATION:DCSWA\, 601 E. Baltimore Ave\, Media\, PA\, 19063\, United States
CATEGORIES:Board Meetings,In Person,Virtually
ATTACH;FMTTYPE=image/png:https://envirodelco.org/wp-content/uploads/2026/01/DCSWA-Logo.png
END:VEVENT
END:VCALENDAR