BEGIN:VCALENDAR
VERSION:2.0
PRODID:-//LWV DelCo Environmental Clearinghouse - ECPv6.15.20//NONSGML v1.0//EN
CALSCALE:GREGORIAN
METHOD:PUBLISH
X-WR-CALNAME:LWV DelCo Environmental Clearinghouse
X-ORIGINAL-URL:https://envirodelco.org
X-WR-CALDESC:Events for LWV DelCo Environmental Clearinghouse
REFRESH-INTERVAL;VALUE=DURATION:PT1H
X-Robots-Tag:noindex
X-PUBLISHED-TTL:PT1H
BEGIN:VTIMEZONE
TZID:America/New_York
BEGIN:DAYLIGHT
TZOFFSETFROM:-0500
TZOFFSETTO:-0400
TZNAME:EDT
DTSTART:20250309T070000
END:DAYLIGHT
BEGIN:STANDARD
TZOFFSETFROM:-0400
TZOFFSETTO:-0500
TZNAME:EST
DTSTART:20251102T060000
END:STANDARD
BEGIN:DAYLIGHT
TZOFFSETFROM:-0500
TZOFFSETTO:-0400
TZNAME:EDT
DTSTART:20260308T070000
END:DAYLIGHT
BEGIN:STANDARD
TZOFFSETFROM:-0400
TZOFFSETTO:-0500
TZNAME:EST
DTSTART:20261101T060000
END:STANDARD
BEGIN:DAYLIGHT
TZOFFSETFROM:-0500
TZOFFSETTO:-0400
TZNAME:EDT
DTSTART:20270314T070000
END:DAYLIGHT
BEGIN:STANDARD
TZOFFSETFROM:-0400
TZOFFSETTO:-0500
TZNAME:EST
DTSTART:20271107T060000
END:STANDARD
END:VTIMEZONE
BEGIN:VEVENT
DTSTART;TZID=America/New_York:20260423T100000
DTEND;TZID=America/New_York:20260423T120000
DTSTAMP:20260423T010329
CREATED:20260416T192046Z
LAST-MODIFIED:20260416T192132Z
UID:12073-1776938400-1776945600@envirodelco.org
SUMMARY:DVRPC Board Meeting
DESCRIPTION:Agenda and Online Commenting Available for April 23\, 2026\, DVRPC Board Actions\n\n\n\n\n\n\n\n\nThe next DVRPC Board meeting is on Thursday\, April 23\, 2026\, at 10:00 am. It is being held in person at DVRPC’s office with an online option via remote webinar. The public can register to attend in person or online. \nThe public can comment on DVRPC Board action items using an online commenting application. The meeting agenda can be viewed online. \nInformation related to Board action items is posted approximately 10 days before a scheduled Board meeting. The online commenting feature will be live until 12 noon the day before the Board meeting. The public may also submit comments: \n\n\n\n\n\n\n\n\n\n\n\nby U.S. Mail (c/o Operations\, Communications\, and Engagement\, DVRPC\, 190 N. Independence Mall West\, 8th Floor\, Philadelphia\, PA 19106);\nby phone (Director of Operations\, Communications\, and Engagement at 215-238-2929);\nor via email at public_affairs@dvrpc.org.\n\n\n\n\n\n\n\n\n\n\n\nAll comments must be received by 12 noon on Wednesday\, April 22\, 2026\, to be included in the comments packet. Members of the public may also attend and comment at the Board meeting. For more information\, please contact the Division of Operations\, Communications\, and Engagement at 215-592-1800 or public_affairs@dvrpc.org. DVRPC staff will follow up on any questions or comments\, and all comments submitted during this time period will be forwarded to DVRPC Board members.
URL:https://envirodelco.org/event/dvrpc-board-meeting-copy/
LOCATION:Virtual Meeting
CATEGORIES:Board Meetings,Virtually
ATTACH;FMTTYPE=image/png:https://envirodelco.org/wp-content/uploads/2026/02/dvrpc-logo.png
ORGANIZER;CN="DVRPC-Delaware Valley River Planning Commisssion":MAILTO:public_affairs@dvrpc.org
END:VEVENT
BEGIN:VEVENT
DTSTART;TZID=America/New_York:20260423T120000
DTEND;TZID=America/New_York:20260423T133000
DTSTAMP:20260423T010329
CREATED:20260402T203011Z
LAST-MODIFIED:20260402T203011Z
UID:11881-1776945600-1776951000@envirodelco.org
SUMMARY:Toxicology\, Data Collection\, and Treatment ($)
DESCRIPTION:DRBC Sr. Chemist/Toxicologist Dr. Jeremy Conkle will be one of the presenters at an upcoming webinar hosted by the New Jersey Section of the American Water Resources Association (NJ-AWRA). The April 23\, 2026\, webinar will take place from 12 p.m. to 1:30 p.m. and will focus on PFAS: Toxicology\, Data Collection and Treatment. Conkle’s presentation is entitled “Twenty years of PFAS data in the Delaware River Basin: Just scratching the surfactant.” Learn more and register at  https://njawra.org/event-6626649.
URL:https://envirodelco.org/event/toxicology-data-collection-and-treatment/
LOCATION:Virtual Meeting
CATEGORIES:Presentation,Virtually
ORGANIZER;CN="Delaware River Basin Commission (DRBC)":MAILTO:Kate.Schmidt@drbc.gov
END:VEVENT
BEGIN:VEVENT
DTSTART;TZID=America/New_York:20260423T180000
DTEND;TZID=America/New_York:20260423T190000
DTSTAMP:20260423T010329
CREATED:20260406T193208Z
LAST-MODIFIED:20260406T193208Z
UID:11915-1776967200-1776970800@envirodelco.org
SUMMARY:Backyard Composting
DESCRIPTION:COST: $70 for workshop and compost bin; $20 for workshop only \nThis workshop thoroughly covers the importance and benefits of composting\, the process\, setting up a compost pile\, proper maintenance\, and ways of using finished compost. \nRegistrants may choose to register for the Backyard Composting Workshop only or for $50 additional they can purchase the Backyard Composting Workshop and Compost Bin for $70. \nThis bin has an 82-gallon capacity and is ideal for urban and suburban areas. \nClick Here to Register \n 
URL:https://envirodelco.org/event/backyard-composting/
LOCATION:Hunt Club at Rose Tree Park\, 1521 N. Providence Road\, Media\, 19063\, United States
CATEGORIES:Community Activity,Educational,In Person
ATTACH;FMTTYPE=image/png:https://envirodelco.org/wp-content/uploads/2026/03/PRC-Logo.png
END:VEVENT
END:VCALENDAR